Workbook
Name A: #REF!
Name A: #REF!
Name ABRIL: #REF!
Name ABRIL: #REF!
Name ACTIVO: #REF!
Name ACTIVO: #REF!
Name B: #REF!
Name B: #REF!
Name BALANCE: #REF!
Name BALANCE: #REF!
Name BALANCE12: #REF!
Name BALANCE12: #REF!
Name CORRECMONABRIL: #REF!
Name CORRECMONABRIL: #REF!
Name CORREJUNIO: #REF!
Name CORREJUNIO: #REF!
Name FOR: [1]VENCOS.2003!$J$8:$J$464
Name FORM2: [1]VENCOS.2003!$J$8:$J$464
Name GASTOS.GRAF: #REF!
Name GASTOS.GRAF: #REF!
Name GASTOS01: #REF!
Name GASTOS01: #REF!
Name GRAF.GAST: #REF!
Name GRAF.GAST: #REF!
Name GRAF.ING: #REF!
Name GRAF.ING: #REF!
Name GRAFICASGASTOS: #REF!
Name GRAFICASGASTOS: #REF!
Name GRAFINGRESOS: #REF!
Name GRAFINGRESOS: #REF!
Name GSED: #REF!
Name GSED: #REF!
Name hhh: #REF!
Name hhh: #REF!
Name INGRESOS: #REF!
Name INGRESOS: #REF!
Name jan: [2]CREDITOS!#REF!
Name jan: [2]CREDITOS!#REF!
Name kkkkk: #REF!
Name kkkkk: #REF!
Name kklkñ: #REF!
Name kklkñ: #REF!
Name l.llll: #REF!
Name l.llll: #REF!
Name lili: #REF!
Name lili: #REF!
Name lklklkl: #REF!
Name lklklkl: #REF!
Name lllll: #REF!
Name lllll: #REF!
Name mar: #REF!
Name mar: #REF!
Name MARZO16: #REF!
Name MARZO16: #REF!
Name MIGUEL: #REF!
Name MIGUEL: #REF!
Name OPERACIONE: #REF!
Name OPERACIONE: #REF!
Name PAJSALDSMDL: #REF!
Name PAJSALDSMDL: #REF!

Sheet ANEXO 1
A1: ANEXO No. 1
A2: INSTITUTO NACIONAL PARA CIEGOS - INCI
A3: ESTADO DE SITUACIÓN FINANCIERA COMPARATIVO
A4: POR LOS MESES TERMINADOS A 31 DE JULIO DE 2026 Y 30 DE JUNIO DE 2026
A5: Cifras en pesos
C7: Período | E7: Período | G7: Variaciones
C8: JUL-26 | E8: JUN-26 | G8: $ | H8: %
B10: ACTIVO
B12: CORRIENTE | C12: =SUM(C13:C16) -> 4.2855587e+09 | E12: =SUM(E13:E16) -> 4.3240374e+09 | G12: =+C12-E12 -> -38478629 | H12: =+G12/E12 -> -0.0088987735 | J12: =+'ANEXO 2'!C13 -> 4.2855587e+09 | K12: =+C12-J12 -> 0
A13: 11 | B13: Efectivo y equivalente al efectivo | C13: =IFERROR(VLOOKUP(A13,'BLCE JUL-26'!$A$10:$F$1048576,6,0),0) -> 14888679 | E13: 8154515.2 | G13: =+C13-E13 -> 6734164.2 | H13: =+G13/E13 -> 0.82582031
A14: 13 | B14: Cuentas por cobrar | C14: =IFERROR(VLOOKUP(A14,'BLCE JUL-26'!$A$10:$F$1048576,6,0),0) -> 3.445962e+09 | E14: 3.4466767e+09 | G14: =+C14-E14 -> -714773.16 | H14: =+G14/E14 -> -0.00020738039
A15: 15 | B15: Inventarios | C15: =IFERROR(VLOOKUP(A15,'BLCE JUL-26'!$A$10:$F$1048576,6,0),0) -> 6.2507141e+08 | E15: 6.3210569e+08 | G15: =+C15-E15 -> -7034281.2 | H15: =+G15/E15 -> -0.011128331
A16: 19 | B16: Otros activos | C16: =+'BLCE JUL-26'!F130+'BLCE JUL-26'!F133+'BLCE JUL-26'!F136 -> 1.9963667e+08 | E16: 2.3710041e+08 | G16: =+C16-E16 -> -37463739 | H16: =+G16/E16 -> -0.1580079
B18: NO CORRIENTE | C18: =SUM(C19:C21) -> 9.6659013e+09 | E18: =SUM(E19:E21) -> 9.6965218e+09 | G18: =+C18-E18 -> -30620502 | H18: =+G18/E18 -> -0.0031578851
A19: 12 | B19: Inversiones e instrumentos derivados | C19: =IFERROR(VLOOKUP(A19,'BLCE JUL-26'!$A$10:$F$1048576,6,0),0) -> 1000 | E19: 1000 | G19: =+C19-E19 -> 0 | H19: =+G19/E19 -> 0
A20: 16 | B20: Propiedad planta y Equipo | C20: =IFERROR(VLOOKUP(A20,'BLCE JUL-26'!$A$10:$F$1048576,6,0),0) -> 9.3114029e+09 | E20: 9.3341628e+09 | G20: =+C20-E20 -> -22759905 | H20: =+G20/E20 -> -0.0024383445
A21: 19 | B21: Otros activos | C21: =+'BLCE JUL-26'!F140+'BLCE JUL-26'!F147 -> 3.5449737e+08 | E21: 3.6235796e+08 | G21: =+C21-E21 -> -7860597 | H21: =+G21/E21 -> -0.021692905
B23: TOTAL ACTIVO | C23: =+C12+C18 -> 1.395146e+10 | E23: =+E12+E18 -> 1.4020559e+10 | G23: =+C23-E23 -> -69099131 | H23: =+G23/E23 -> -0.0049284148 | J23: =+'ANEXO 2'!C75 -> 1.395146e+10 | K23: =+C23-J23 -> 0
B25: Cuentas de Orden Deudoras - DB
A27: 81 | B27: Activos contingentes | C27: =IFERROR(VLOOKUP(A27,'BLCE JUL-26'!$A$10:$F$1048576,6,0),0) -> 0 | E27: 0 | G27: =+C27-E27 -> 0 | H27: 0
A28: 83 | B28: Deudoras de control | C28: =IFERROR(VLOOKUP(A28,'BLCE JUL-26'!$A$10:$F$1048576,6,0),0) -> 1.2164897e+09 | E28: 1.2128324e+09 | G28: =+C28-E28 -> 3657304.6 | H28: =+G28/E28 -> 0.0030155071
B30: Cuentas de Orden Deudoras por contra - CR
A32: 89 | B32: Deudoras por el contra | C32: =IFERROR(VLOOKUP(A32,'BLCE JUL-26'!$A$10:$F$1048576,6,0),0) -> -1.2164897e+09 | E32: -1.2128324e+09 | G32: =+C32-E32 -> -3657304.6 | H32: =+G32/E32 -> 0.0030155071
B35: PASIVO
B37: CORRIENTE | C37: =+C38+C39 -> 1.4035058e+09 | E37: =+E38+E39 -> 1.5510874e+09 | G37: =+C37-E37 -> -1.4758156e+08 | H37: =+G37/E37 -> -0.095147162 | J37: =+'ANEXO 2'!C100 -> 1.4035058e+09 | K37: =+J37-C37 -> 0
A38: 24 | B38: Cuentas por pagar | C38: =IFERROR(VLOOKUP(A38,'BLCE JUL-26'!$A$10:$F$1048576,6,0),0) -> 6.463785e+08 | E38: 6.5698672e+08 | G38: =+C38-E38 -> -10608221 | H38: =+G38/E38 -> -0.016146781
A39: 25 | B39: Beneficios a empleados | C39: =IFERROR(VLOOKUP(A39,'BLCE JUL-26'!$A$10:$F$1048576,6,0),0) -> 7.571273e+08 | E39: 8.9410064e+08 | G39: =+C39-E39 -> -136973339 | H39: =+G39/E39 -> -0.15319678
B41: NO CORRIENTE | C41: =+C42 -> 0 | E41: =+E42 -> 0 | G41: =+C41-E41 -> 0 | H41: =+G41/E41 -> #DIV/0! | J41: =+'ANEXO 2'!C120 -> 0 | K41: =+C41-J41 -> 0
A42: 27 | B42: Litigios y demandas | C42: =IFERROR(VLOOKUP(A42,'BLCE JUL-26'!$A$10:$F$1048576,6,0),0) -> 0 | E42: 0 | G42: =+C42-E42 -> 0 | H42: =+G42/E42 -> #DIV/0!
B44: TOTAL PASIVO | C44: =+C37+C41 -> 1.4035058e+09 | E44: =+E37+E41 -> 1.5510874e+09 | G44: =+C44-E44 -> -1.4758156e+08 | H44: =+G44/E44 -> -0.095147162 | J44: =+'ANEXO 2'!C129 -> 1.4035058e+09 | K44: =+C44-J44 -> 0 | L44: =+C44-J44 -> 0
B47: PATRIMONIO
A49: 31 | B49: Patrimonio de las entidades de Gobierno | C49: =IFERROR(VLOOKUP(A49,'BLCE JUL-26'!$A$10:$F$1048576,6,0),0)+'ANEXO 3'!C55 -> 1.2547954e+10 | E49: 1.2469472e+10 | G49: =+C49-E49 -> 78482429 | H49: =+G49/E49 -> 0.0062939658
B51: TOTAL PATRIMONIO | C51: =+C49 -> 1.2547954e+10 | E51: =+E49 -> 1.2469472e+10 | G51: =+C51-E51 -> 78482429 | H51: =+G51/E51 -> 0.0062939658 | J51: =+'ANEXO 2'!C142 -> 1.2547954e+10 | K51: =+C51-J51 -> 0 | L51: =+C51-J51 -> 0
B54: TOTAL PASIVO Y PATRIMONIO | C54: =+C44+C51 -> 1.395146e+10 | E54: =+E44+E51 -> 1.4020559e+10 | G54: =+C54-E54 -> -69099131 | H54: =+G54/E54 -> -0.0049284148 | J54: =+C54-C23 -> 0
B57: Cuentas de Orden Acreedoras - CR | C57: =+C58+C61 -> 0 | E57: =+E58+E61 -> 0 | G57: =+C57-E57 -> 0 | H57: 0
A58: 91 | B58: Pasivos Contingentes | C58: =IFERROR(VLOOKUP(A58,'BLCE JUL-26'!$A$10:$F$1048576,6,0),0) -> 0 | E58: 0 | G58: =+C58-E58 -> 0 | H58: 0
B60: Cuentas de Orden Acreedoras por contra - DB
A61: 99 | B61: Acreedoras por el contra | C61: =IFERROR(VLOOKUP(A61,'BLCE JUL-26'!$A$10:$F$1048576,6,0),0) -> 0 | E61: 0 | G61: =+C61-E61 -> 0 | H61: 0
A66: EDNA VIVIANA VEGA ORTÍZ | D66: Cont. Púb. YAIR CONSUELO CALDERÓN SILVA
A67: Cèdula de ciudadanìa No. 1.019.023.923 | D67: Cèdula de ciudadanìa No. 52.713.929
...

Sheet ANEXO 2
A1: ANEXO No. 2
A2: INSTITUTO NACIONAL PARA CIEGOS - INCI
A3: =+'ANEXO 1'!A3:H3 -> ESTADO DE SITUACIÓN FINANCIERA COMPARATIVO
A4: =+'ANEXO 1'!A4:H4 -> POR LOS MESES TERMINADOS A 31 DE JULIO DE 2026 Y 30 DE JUNIO DE 2026
A5: Cifras en pesos
C7: Período | E7: Período | G7: Variaciones
C8: =+'ANEXO 1'!C8 -> JUL-26 | E8: =+'ANEXO 1'!E8 -> JUN-26 | G8: $ | H8: %
B10: ACTIVO
B13: CORRIENTE | C13: =+C16+C21+C29+C37 -> 4.2855587e+09 | E13: =+E16+E21+E29+E37 -> 4.3240374e+09 | G13: =+C13-E13 -> -38478629 | H13: =+G13/E13 -> -0.0088987735 | I13: =+'ANEXO 1'!C12 -> 4.2855587e+09 | J13: =+C13-I13 -> 0
A16: 11 | B16: Efectivo y equivalente al efectivo | C16: =+C18+C19 -> 14888679 | E16: =+E18+E19 -> 8154515.2 | G16: =+C16-E16 -> 6734164.2 | H16: =+G16/E16 -> 0.82582031
A18: 1105 | B18: Caja | C18: =IFERROR(VLOOKUP(A18,'BLCE JUL-26'!$A$10:$F$1048576,6,0),0) -> 1346000 | E18: 1346000 | G18: =+C18-E18 -> 0 | H18: =+G18/E18 -> 0
A19: 1110 | B19: Depósitos en instituciones financieras | C19: =IFERROR(VLOOKUP(A19,'BLCE JUL-26'!$A$10:$F$1048576,6,0),0) -> 13542679 | E19: 6808515.2 | G19: =+C19-E19 -> 6734164.2 | H19: =+G19/E19 -> 0.98907971
A21: 13 | B21: Cuentas por cobrar | C21: =+C24+C25+C26+C27 -> 3.445962e+09 | E21: =+E24+E25+E26+E27 -> 3.4466767e+09 | G21: =+C21-E21 -> -714773.16 | H21: =+G21/E21 -> -0.00020738039
A23: 1305 | B23: Impuestos, retenciones en la fuente y anticipos | C23: =IFERROR(VLOOKUP(A23,'BLCE JUL-26'!$A$10:$F$1048576,6,0),0) -> 0 | E23: 0 | G23: =+C23-E23 -> 0 | H23: 0
A24: 1311 | B24: Contribuciones tasas e ingresos no tributarios | C24: =IFERROR(VLOOKUP(A24,'BLCE JUL-26'!$A$10:$F$1048576,6,0),0) -> 0 | E24: 0 | G24: =+C24-E24 -> 0 | H24: 0
A25: 1316 | B25: Venta de bienes | C25: =IFERROR(VLOOKUP(A25,'BLCE JUL-26'!$A$10:$F$1048576,6,0),0) -> 3.3998387e+09 | E25: 3.4005535e+09 | G25: =+C25-E25 -> -714773.16 | H25: =+G25/E25 -> -0.00021019318
A26: 1384 | B26: Otras cuentas por cobrar-Incapacidades | C26: =IFERROR(VLOOKUP(A26,'BLCE JUL-26'!$A$10:$F$1048576,6,0),0) -> 46123281 | E26: 46123281 | G26: =+C26-E26 -> 0 | H26: =+G26/E26 -> 0
A27: 1390 | B27: Otras cuentas por cobrar | C27: =IFERROR(VLOOKUP(A27,'BLCE JUL-26'!$A$10:$F$1048576,6,0),0) -> 0 | E27: 0 | G27: =+C27-E27 -> 0 | H27: 0
A29: 15 | B29: Inventarios | C29: =SUM(C31:C35) -> 6.2507141e+08 | E29: =SUM(E31:E35) -> 6.3210569e+08 | G29: =+C29-E29 -> -7034281.2 | H29: =+G29/E29 -> -0.011128331
A31: 1505 | B31: Bienes producidos | C31: =IFERROR(VLOOKUP(A31,'BLCE JUL-26'!$A$10:$F$1048576,6,0),0) -> 2.5226252e+08 | E31: 2.5474891e+08 | G31: =+C31-E31 -> -2486389.9 | H31: =+G31/E31 -> -0.009760159
A32: 1510 | B32: Mercancías en existencia | C32: =IFERROR(VLOOKUP(A32,'BLCE JUL-26'!$A$10:$F$1048576,6,0),0) -> 92828150 | E32: 1.1320073e+08 | G32: =+C32-E32 -> -20372576 | H32: =+G32/E32 -> -0.1799686
A33: 1512 | B33: Materias primas | C33: =IFERROR(VLOOKUP(A33,'BLCE JUL-26'!$A$10:$F$1048576,6,0),0) -> 2.0855656e+08 | E33: 1.999868e+08 | G33: =+C33-E33 -> 8569760.8 | H33: =+G33/E33 -> 0.042851633
A34: 1514 | B34: Materiales y suministros | C34: =IFERROR(VLOOKUP(A34,'BLCE JUL-26'!$A$10:$F$1048576,6,0),0) -> 0 | E34: 0 | G34: =+C34-E34 -> 0 | H34: 0
A35: 1520 | B35: Productos en proceso | C35: =IFERROR(VLOOKUP(A35,'BLCE JUL-26'!$A$10:$F$1048576,6,0),0) -> 71424177 | E35: 64169253 | G35: =+C35-E35 -> 7254924.2 | H35: =+G35/E35 -> 0.1130592
A37: 19 | B37: Otros activos | C37: =SUM(C39:C42) -> 1.9963667e+08 | E37: =SUM(E39:E42) -> 2.3710041e+08 | G37: =+C37-E37 -> -37463739 | H37: =+G37/E37 -> -0.1580079
A39: 1905 | B39: Bienes y servicios pagados por anticipado | C39: =IFERROR(VLOOKUP(A39,'BLCE JUL-26'!$A$10:$F$1048576,6,0),0) -> 0 | E39: 0 | G39: =+C39-E39 -> 0 | H39: 0
A40: 1906 | B40: Avance para viáticos y gastos viaje | C40: =IFERROR(VLOOKUP(A40,'BLCE JUL-26'!$A$10:$F$1048576,6,0),0) -> 0 | E40: 989732 | G40: =+C40-E40 -> -989732 | H40: 1
A41: 1907 | B41: Derechos de compensaciones por impuestos y contribuciones | C41: =IFERROR(VLOOKUP(A41,'BLCE JUL-26'!$A$10:$F$1048576,6,0),0) -> 38288716 | E41: 38288716 | G41: =+C41-E41 -> 0 | H41: 1
A42: 1908 | B42: Recursos entregados en administración | C42: =IFERROR(VLOOKUP(A42,'BLCE JUL-26'!$A$10:$F$1048576,6,0),0) -> 1.6134796e+08 | E42: 1.9782197e+08 | G42: =+C42-E42 -> -36474007 | H42: =+G42/E42 -> -0.18437794
B45: NO CORRIENTE | C45: =C48+C52+C69 -> 9.6659013e+09 | E45: =E48+E52+E69 -> 9.6965218e+09 | G45: =+C45-E45 -> -30620502 | H45: =+G45/E45 -> -0.0031578851 | I45: =+'ANEXO 1'!C18 -> 9.6659013e+09 | J45: =+C45-I45 -> 0
A48: 12 | B48: Inversiones e instrumentos derivados | C48: =SUM(C50) -> 1000 | E48: 1000 | G48: =+C48-E48 -> 0 | H48: =+G48/E48 -> 0
A50: 1222 | B50: Inversiones de administración de liquidez a valor del mercado | C50: =IFERROR(VLOOKUP(A50,'BLCE JUL-26'!$A$10:$F$1048576,6,0),0) -> 1000 | E50: 1000 | G50: =+C50-E50 -> 0 | H50: =+G50/E50 -> 0
A52: 16 | B52: Propiedad planta y equipo | C52: =SUM(C54:C67) -> 9.3114029e+09 | E52: =SUM(E54:E67) -> 9.3341628e+09 | G52: =+C52-E52 -> -22759905 | H52: =+G52/E52 -> -0.0024383445
A54: 1605 | B54: Terrenos | C54: =IFERROR(VLOOKUP(A54,'BLCE JUL-26'!$A$10:$F$1048576,6,0),0) -> 3924626300 | E54: 3924626300 | G54: =+C54-E54 -> 0 | H54: =+G54/E54 -> 0
A55: 1615 | B55: Construcciones en curso | C55: =IFERROR(VLOOKUP(A55,'BLCE JUL-26'!$A$10:$F$1048576,6,0),0) -> 0 | E55: 0 | G55: =+C55-E55 -> 0 | H55: 0
A56: 1635 | B56: Bienes Muebles en Bodega | C56: =IFERROR(VLOOKUP(A56,'BLCE JUL-26'!$A$10:$F$1048576,6,0),0) -> 0 | E56: 0 | G56: =+C56-E56 -> 0 | H56: 0
A57: 1637 | B57: Propiedad planta y equipo no explotados | C57: =IFERROR(VLOOKUP(A57,'BLCE JUL-26'!$A$10:$F$1048576,6,0),0) -> 4.9789036e+08 | E57: 4.9789036e+08 | G57: =+C57-E57 -> 0 | H57: =+G57/E57 -> 0
A58: 1640 | B58: Edificaciones | C58: =IFERROR(VLOOKUP(A58,'BLCE JUL-26'!$A$10:$F$1048576,6,0),0) -> 4.4401129e+09 | E58: 4.4401129e+09 | G58: =+C58-E58 -> 0 | H58: =+G58/E58 -> 0
A59: 1650 | B59: Redes, líneas y cables | C59: =IFERROR(VLOOKUP(A59,'BLCE JUL-26'!$A$10:$F$1048576,6,0),0) -> 65631390 | E59: 65631390 | G59: =+C59-E59 -> 0 | H59: =+G59/E59 -> 0
A60: 1655 | B60: Maquinaria y equipo | C60: =IFERROR(VLOOKUP(A60,'BLCE JUL-26'!$A$10:$F$1048576,6,0),0) -> 2.2790753e+09 | E60: 2.2790753e+09 | G60: =+C60-E60 -> 0 | H60: =+G60/E60 -> 0
...

Sheet ANEXO 3
A1: ANEXO No. 3
A2: INSTITUTO NACIONAL PARA CIEGOS - INCI
A3: ESTADO DE RESULTADOS | M3: =7800*2 -> 15600
A4: COMPARATIVO POR LOS MESES TERMINADOS AL 31 DE JULIO DE 2026-2025
A5: Cifras en pesos
B8: CUENTA | C8: Período | E8: Período | G8: Variaciones
C9: JUL-26 | E9: JUL-25 | G9: $ | H9: %
B11: INGRESOS OPERACIONALES | C11: =+C14+C15+C16+C17+C18 -> 7.7243936e+09 | E11: =+E14+E15+E16+E17+E18 -> 4.0960612e+09 | G11: =+C11-E11 -> 3.6283324e+09 | H11: =+G11/E11 -> 0.88581011 | J11: =+'ANEXO 4'!E12 -> 4.0960612e+09 | K11: =+E11-J11 -> 0 | L11: =+J11-K11 -> 4.0960612e+09
A14: 41 | B14: Ingresos Fiscales | C14: =IFERROR(VLOOKUP(A14,'BLCE JUL-26'!$A:$F,6,0),0) -> 0 | E14: =IFERROR(VLOOKUP(A14,'BLCE JUL-25'!$A$9:$F$1048576,6,0),0) -> 0 | G14: =+C14-E14 -> 0 | H14: 0
A15: 42 | B15: Venta de Bienes | C15: =IFERROR(VLOOKUP(A15,'BLCE JUL-26'!$A:$F,6,0),0) -> 2.9209664e+09 | E15: =IFERROR(VLOOKUP(A15,'BLCE JUL-25'!$A$9:$F$1048576,6,0),0) -> 77767555 | G15: =+C15-E15 -> 2.8431988e+09 | H15: =+G15/E15 -> 36.560219
A16: 43 | B16: Venta de Servicios | C16: =IFERROR(VLOOKUP(A16,'BLCE JUL-26'!$A:$F,6,0),0) -> 0 | E16: =IFERROR(VLOOKUP(A16,'BLCE JUL-25'!$A$9:$F$1048576,6,0),0) -> 0 | G16: =+C16-E16 -> 0 | H16: 0
A17: 44 | B17: Transferencias y subtransferencias | C17: =IFERROR(VLOOKUP(A17,'BLCE JUL-26'!$A:$F,6,0),0) -> 101550 | E17: =IFERROR(VLOOKUP(A17,'BLCE JUL-25'!$A$9:$F$1048576,6,0),0) -> 0 | G17: =+C17-E17 -> 101550 | H17: 1
A18: 47 | B18: Operaciones Interinstitucionales | C18: =IFERROR(VLOOKUP(A18,'BLCE JUL-26'!$A:$F,6,0),0) -> 4.8033257e+09 | E18: =IFERROR(VLOOKUP(A18,'BLCE JUL-25'!$A$9:$F$1048576,6,0),0) -> 4.0182936e+09 | G18: =+C18-E18 -> 7.8503204e+08 | H18: =+G18/E18 -> 0.19536453
B21: COSTO DE VENTAS | C21: =+C23+C28 -> 88369297 | E21: =+E23+E28 -> 45818368 | G21: =+C21-E21 -> 42550929 | H21: =+G21/E21 -> 0.92868713 | J21: =+'ANEXO 4'!E41 -> 45818368 | K21: =+E21-J21 -> 0 | L21: =+C21-J21 -> 42550929
A23: 62 | B23: Costo de ventas de bienes | C23: =IFERROR(VLOOKUP(A23,'BLCE JUL-26'!$A:$F,6,0),0) -> 88369297 | E23: =IFERROR(VLOOKUP(A23,'BLCE JUL-25'!$A$9:$F$1048576,6,0),0) -> 45818368 | G23: =+C23-E23 -> 42550929 | H23: =+G23/E23 -> 0.92868713
B26: COSTO DE TRANSFORMACIÓN | C26: =+C28 -> 0 | E26: =+E28 -> 0 | G26: =+C26-E26 -> 0 | H26: 0
A28: 71 | B28: Impresos y Publicaciones | C28: =IFERROR(VLOOKUP(A28,'BLCE MAR-26'!$A:$F,6,0),0) -> 0 | E28: =IFERROR(VLOOKUP(A28,'BLCE JUL-25'!$A$9:$F$1048576,6,0),0) -> 0 | G28: =+C28-E28 -> 0 | H28: 0
B31: GASTO OPERACIONALES | C31: =+C33+C34+C37+C36+C35 -> 4.4465598e+09 | E31: =+E33+E34+E37+E36 -> 4.7188598e+09 | G31: =+C31-E31 -> -2.7230007e+08 | H31: =+G31/E31 -> -0.057704631 | J31: =+'ANEXO 4'!E58 -> 4.7188598e+09 | K31: =+E31-J31 -> 0 | L31: =+J31-K31 -> 4.7188598e+09
A33: 51 | B33: Gastos de Administración y operación | C33: =IFERROR(VLOOKUP(A33,'BLCE JUL-26'!$A:$F,6,0),0) -> 4.2751957e+09 | E33: =IFERROR(VLOOKUP(A33,'BLCE JUL-25'!$A$9:$F$1048576,6,0),0) -> 4.4811396e+09 | G33: =+C33-E33 -> -2.0594383e+08 | H33: =+G33/E33 -> -0.045957914
A34: 53 | B34: Deterioro, depreciaciones, amortizaciones y provisiones | C34: =IFERROR(VLOOKUP(A34,'BLCE JUL-26'!$A:$F,6,0),0) -> 1.7126248e+08 | E34: =IFERROR(VLOOKUP(A34,'BLCE JUL-25'!$A$9:$F$1048576,6,0),0) -> 235622300 | G34: =+C34-E34 -> -64359824 | H34: =+G34/E34 -> -0.27314827
A35: 54 | B35: Transferencias y subvenciones | C35: =IFERROR(VLOOKUP(A35,'BLCE JUL-26'!$A:$F,6,0),0) -> 101550 | E35: =IFERROR(VLOOKUP(A35,'BLCE JUL-25'!$A$9:$F$1048576,6,0),0) -> 0 | G35: =+C35-E35 -> 101550 | H35: 1
A36: 55 | B36: Gasto Público Social | C36: =IFERROR(VLOOKUP(A36,'BLCE JUL-26'!$A:$F,6,0),0) -> 0 | E36: =IFERROR(VLOOKUP(A36,'BLCE JUL-25'!$A$9:$F$1048576,6,0),0) -> 0 | G36: =+C36-E36 -> 0 | H36: 0
A37: 57 | B37: Operaciones interinstitucionales | C37: =IFERROR(VLOOKUP(A37,'BLCE JUL-26'!$A:$F,6,0),0) -> 0 | E37: =IFERROR(VLOOKUP(A37,'BLCE JUL-25'!$A$9:$F$1048576,6,0),0) -> 2097966 | G37: =+C37-E37 -> -2097966 | H37: =+G37/E37 -> -1
B40: EXCEDENTE (DÉFICIT) OPERACIONAL | C40: =+C11-C31-C21 -> 3.1894645e+09 | E40: =+E11-E31-E21 -> -6.6861701e+08 | G40: =+C40-E40 -> 3.8580816e+09 | H40: =+G40/E40 -> -5.7702414 | J40: =+'ANEXO 4'!E94 -> -6.6861701e+08 | K40: =+E40-J40 -> 0
B44: OTROS INGRESOS | C44: =+C46 -> 57296007 | E44: =+E46 -> 468927.87 | G44: =+C44-E44 -> 56827079 | H44: =+G44/E44 -> 121.18512 | J44: =+'ANEXO 4'!E98 -> 468927.87 | K44: =+J44-E44 -> 0
A46: 48 | B46: Otros Ingresos | C46: =IFERROR(VLOOKUP(A46,'BLCE JUL-26'!$A:$F,6,0),0) -> 57296007 | E46: =IFERROR(VLOOKUP(A46,'BLCE JUL-25'!$A$9:$F$1048576,6,0),0) -> 468927.87 | G46: =+C46-E46 -> 56827079 | H46: =+G46/E46 -> 121.18512
B49: OTROS GASTOS | C49: =+C51 -> 3495150.7 | E49: =+E51 -> 49007709 | G49: =+C49-E49 -> -45512559 | H49: =+G49/E49 -> -0.92868161 | J49: =+'ANEXO 4'!E107 -> 49007709 | K49: =+E49-J49 -> 0
A51: 58 | B51: Otros gastos | C51: =IFERROR(VLOOKUP(A51,'BLCE JUL-26'!$A:$F,6,0),0) -> 3495150.7 | E51: =IFERROR(VLOOKUP(A51,'BLCE JUL-25'!$A$9:$F$1048576,6,0),0) -> 49007709 | G51: =+C51-E51 -> -45512559 | H51: =+G51/E51 -> -0.92868161
B55: EXCEDENTE O DÉFICIT DEL EJERCICIO | C55: =+C40-C49+C44 -> 3.2432654e+09 | E55: =+E40-E49+E44 -> -7.1715579e+08 | G55: =+C55-E55 -> 3.9604212e+09 | H55: =+G55/E55 -> -5.5224 | J55: =+'ANEXO 4'!E118 -> -7.1715579e+08 | K55: =+E55-J55 -> 0
A61: =+'ANEXO 1'!A66:C66 -> EDNA VIVIANA VEGA ORTÍZ | D61: =+'ANEXO 1'!D66:H66 -> Cont. Púb. YAIR CONSUELO CALDERÓN SILVA
A62: =+'ANEXO 1'!A67:C67 -> Cèdula de ciudadanìa No. 1.019.023.923 | D62: =+'ANEXO 1'!D67:H67 -> Cèdula de ciudadanìa No. 52.713.929
A63: =+'ANEXO 1'!A68:C68 -> Coordinadora Administrativa y Financiera | D63: =+'ANEXO 1'!D68:H68 -> TP 199275-T
D64: =+'ANEXO 1'!D69:H69 -> Los saldos fueron tomados de SIIF Nación
A70: =+'ANEXO 1'!A74:H74 -> ANDREA CAROLINA CHACÓN CASTILLO
A71: =+'ANEXO 1'!A75:H75 -> Cèdula de ciudadanìa No. 1.100.959.001
A72: =+'ANEXO 1'!A76:H76 -> Directora General
A74: "Trabajamos por una Colombia mas incluyente" Dirección: Carrera 13 No. 34-91 Bogotá, D.C., Colombia PBX: 601 3846666 Bogotá, D.C. Colombia aciudadano@inci.gov.co www.inci.gov. Co

Sheet ANEXO 4
A1: ANEXO No. 4
A2: INSTITUTO NACIONAL PARA CIEGOS - INCI
A3: ESTADO DE RESULTADOS
A4: =+'ANEXO 3'!A4:E4 -> COMPARATIVO POR LOS MESES TERMINADOS AL 31 DE JULIO DE 2026-2025
A5: Cifras en pesos
B8: CUENTA | C8: Período | E8: Período | G8: Variaciones
C9: =+'ANEXO 3'!C9 -> JUL-26 | E9: =+'ANEXO 3'!E9 -> JUL-25 | G9: $ | H9: %
B12: INGRESOS OPERACIONALES | C12: =+C15+C19+C25+C30+C34 -> 7.7243936e+09 | E12: =+E15+E19+E25+E30+E34 -> 4.0960612e+09 | G12: =+C12-E12 -> 3.6283324e+09 | H12: =+G12/E12 -> 0.88581011 | I12: =+'ANEXO 3'!C11 -> 7.7243936e+09 | J12: =+C12-I12 -> 0
A15: 41 | B15: Ingresos Fiscales | C15: =+C17 -> 0 | E15: =+E17 -> 0 | G15: =+C15-E15 -> 0 | H15: 0
A17: 4110 | B17: No tributarios | C17: =IFERROR(VLOOKUP(A17,'BLCE JUL-26'!$A$2:$F$1048576,6,0),0) -> 0 | E17: =IFERROR(VLOOKUP(A17,'BLCE JUL-25'!$A$9:$F$1048576,6,0),0) -> 0 | G17: =+C17-E17 -> 0 | H17: 0
A19: 42 | B19: Venta de Bienes | C19: =SUM(C21:C23) -> 2.9209664e+09 | E19: =SUM(E21:E23) -> 77767555 | G19: =+C19-E19 -> 2.8431988e+09 | H19: =+G19/E19 -> 36.560219
A21: 4204 | B21: Bienes Producidos | C21: =IFERROR(VLOOKUP(A21,'BLCE JUL-26'!$A$2:$F$1048576,6,0),0) -> 2.8922556e+09 | E21: =IFERROR(VLOOKUP(A21,'BLCE JUL-25'!$A$9:$F$1048576,6,0),0) -> 47322970 | G21: =+C21-E21 -> 2.8449326e+09 | H21: =+G21/E21 -> 60.117372
A22: 4210 | B22: Bienes comercializados | C22: =IFERROR(VLOOKUP(A22,'BLCE JUL-26'!$A$2:$F$1048576,6,0),0) -> 28710804 | E22: =IFERROR(VLOOKUP(A22,'BLCE JUL-25'!$A$9:$F$1048576,6,0),0) -> 30444585 | G22: =+C22-E22 -> -1733780.7 | H22: =+G22/E22 -> -0.056948739
A23: 4295 | B23: Devoluciones, rebajas y descuentos en venta de bienes (Db) | C23: =IFERROR(VLOOKUP(A23,'BLCE JUL-26'!$A$2:$F$1048576,6,0),0) -> 0 | E23: =IFERROR(VLOOKUP(A23,'BLCE JUL-25'!$A$9:$F$1048576,6,0),0) -> 0 | G23: =+C23-E23 -> 0 | H23: 0 | J23: BIENES (DB)
A25: 43 | B25: Venta de servicios | C25: =SUM(C27:C28) -> 0 | E25: =SUM(E27:E28) -> 0 | G25: =+C25-E25 -> 0 | H25: 0
A27: 4311 | B27: Administración de la seguridad social en salud | C27: =IFERROR(VLOOKUP(A27,'BLCE JUL-26'!$A$2:$F$1048576,6,0),0) -> 0 | E27: =IFERROR(VLOOKUP(A27,'BLCE JUL-25'!$A$9:$F$1048576,6,0),0) -> 0 | G27: =+C27-E27 -> 0 | H27: 0
A28: 4390 | B28: Otros servicios | C28: =IFERROR(VLOOKUP(A28,'BLCE JUL-26'!$A$2:$F$1048576,6,0),0) -> 0 | E28: =IFERROR(VLOOKUP(A28,'BLCE JUL-25'!$A$9:$F$1048576,6,0),0) -> 0 | G28: =+C28-E28 -> 0 | H28: 0
A30: 44 | B30: Transferencias y subtransferencias | C30: =+C32 -> 101550 | E30: =+E32 -> 0 | G30: =+C30-E30 -> 101550 | H30: 1
A32: 4428 | B32: Otras Transferencias | C32: =IFERROR(VLOOKUP(A32,'BLCE JUL-26'!$A$2:$F$1048576,6,0),0) -> 101550 | E32: =IFERROR(VLOOKUP(A32,'BLCE JUL-25'!$A$9:$F$1048576,6,0),0) -> 0 | G32: =+C32-E32 -> 101550 | H32: 0
A34: 47 | B34: Operaciones Institucionales | C34: =+C36+C38+C37 -> 4.8033257e+09 | E34: =+E36+E38+E37 -> 4.0182936e+09 | G34: =+C34-E34 -> 7.8503204e+08 | H34: =+G34/E34 -> 0.19536453
A36: 4705 | B36: Fondos recibidos | C36: =IFERROR(VLOOKUP(A36,'BLCE JUL-26'!$A$2:$F$1048576,6,0),0) -> 4.6844237e+09 | E36: =IFERROR(VLOOKUP(A36,'BLCE JUL-25'!$A$9:$F$1048576,6,0),0) -> 3.9134573e+09 | G36: =+C36-E36 -> 7.709664e+08 | H36: =+G36/E36 -> 0.19700391
A37: 4720 | B37: Operaciones de enlace | C37: =IFERROR(VLOOKUP(A37,'BLCE JUL-26'!$A$2:$F$1048576,6,0),0) -> 0 | E37: =IFERROR(VLOOKUP(A37,'BLCE JUL-25'!$A$9:$F$1048576,6,0),0) -> 0 | G37: =+C37-E37 -> 0 | H37: 0
A38: 4722 | B38: Operaciones sin flujo de efectivo | C38: =IFERROR(VLOOKUP(A38,'BLCE JUL-26'!$A$2:$F$1048576,6,0),0) -> 118901964 | E38: =IFERROR(VLOOKUP(A38,'BLCE JUL-25'!$A$9:$F$1048576,6,0),0) -> 104836325 | G38: =+C38-E38 -> 14065639 | H38: =+G38/E38 -> 0.13416761
B41: COSTO DE VENTAS | C41: =+C44+C51 -> 88369297 | E41: =+E44+E51 -> 45818368 | G41: =+C41-E41 -> 42550929 | H41: =+G41/E41 -> 0.92868713 | I41: =+'ANEXO 3'!C21 -> 88369297 | J41: =+C41-I41 -> 0
A44: 62 | B44: Costo de venta de bienes | C44: =+C47+C48 -> 88369297 | E44: =+E47+E48 -> 45818368 | G44: =+C44-E44 -> 42550929 | H44: =+G44/E44 -> 0.92868713
A47: 6205 | B47: Bienes producidos | C47: =IFERROR(VLOOKUP(A47,'BLCE JUL-26'!$A$2:$F$1048576,6,0),0) -> 39352650 | E47: =IFERROR(VLOOKUP(A47,'BLCE JUL-25'!$A$9:$F$1048576,6,0),0) -> 12827435 | G47: =+C47-E47 -> 26525215 | H47: =+G47/E47 -> 2.0678502
A48: 6210 | B48: Bienes comercializados | C48: =IFERROR(VLOOKUP(A48,'BLCE JUL-26'!$A$2:$F$1048576,6,0),0) -> 49016647 | E48: =IFERROR(VLOOKUP(A48,'BLCE JUL-25'!$A$9:$F$1048576,6,0),0) -> 32990933 | G48: =+C48-E48 -> 16025714 | H48: =+G48/E48 -> 0.48576116
B51: COSTOS DE TRANSFORMACIÓN | C51: =+C55 -> 0 | E51: =+E55 -> 0 | G51: =+C51-E51 -> 0 | H51: 0
A53: 71 | B53: Bienes | C53: =+C55 -> 0 | E53: 0 | G53: =+C53-E53 -> 0 | H53: 0
A55: 7116 | B55: Impresos y Publicaciones | C55: =IFERROR(VLOOKUP(A55,'BLCE JUL-26'!$A$2:$F$1048576,6,0),0) -> 0 | E55: =IFERROR(VLOOKUP(A55,'BLCE JUL-25'!$A$9:$F$1048576,6,0),0) -> 0 | G55: =+C55-E55 -> 0 | H55: 0
B58: GASTOS OPERACIONALES | C58: =+C61+C72+C88+C84+C80 -> 4.4465598e+09 | E58: =+E61+E72+E88+E84 -> 4.7188598e+09 | G58: =+C58-E58 -> -2.7230007e+08 | H58: =+G58/E58 -> -0.057704631 | I58: =+'ANEXO 3'!C31 -> 4.4465598e+09 | J58: =+C58-I58 -> 0
A61: 51 | B61: De administración y operación | C61: =SUM(C63:C70) -> 4.2751957e+09 | E61: =SUM(E63:E70) -> 4.4811396e+09 | G61: =+C61-E61 -> -2.0594383e+08 | H61: =+G61/E61 -> -0.045957914 | I61: =+'ANEXO 3'!C33 -> 4.2751957e+09 | J61: =+C61-I61 -> 0
A63: 5101 | B63: Sueldos y salarios | C63: =IFERROR(VLOOKUP(A63,'BLCE JUL-26'!$A$2:$F$1048576,6,0),0) -> 1.753321e+09 | E63: =IFERROR(VLOOKUP(A63,'BLCE JUL-25'!$A$9:$F$1048576,6,0),0) -> 1657694601 | G63: =+C63-E63 -> 95626438 | H63: =+G63/E63 -> 0.057686403
A64: 5102 | B64: Contribuciones Imputadas | C64: =IFERROR(VLOOKUP(A64,'BLCE JUL-26'!$A$2:$F$1048576,6,0),0) -> 15086501 | E64: =IFERROR(VLOOKUP(A64,'BLCE JUL-25'!$A$9:$F$1048576,6,0),0) -> 7627005 | G64: =+C64-E64 -> 7459496 | H64: =+G64/E64 -> 0.97803738
A65: 5103 | B65: Contribuciones efectivas | C65: =IFERROR(VLOOKUP(A65,'BLCE JUL-26'!$A$2:$F$1048576,6,0),0) -> 392601794 | E65: =IFERROR(VLOOKUP(A65,'BLCE JUL-25'!$A$9:$F$1048576,6,0),0) -> 489199284 | G65: =+C65-E65 -> -96597490 | H65: =+G65/E65 -> -0.19746041
A66: 5104 | B66: Aportes sobre la nómina | C66: =IFERROR(VLOOKUP(A66,'BLCE JUL-26'!$A$2:$F$1048576,6,0),0) -> 76294200 | E66: =IFERROR(VLOOKUP(A66,'BLCE JUL-25'!$A$9:$F$1048576,6,0),0) -> 118097402 | G66: =+C66-E66 -> -41803202 | H66: =+G66/E66 -> -0.35397224
A67: 5107 | B67: Prestaciones sociales | C67: =IFERROR(VLOOKUP(A67,'BLCE JUL-26'!$A$2:$F$1048576,6,0),0) -> 7.0329945e+08 | E67: =IFERROR(VLOOKUP(A67,'BLCE JUL-25'!$A$9:$F$1048576,6,0),0) -> 952966114 | G67: =+C67-E67 -> -2.4966667e+08 | H67: =+G67/E67 -> -0.26198903
A68: 5108 | B68: Gastos de personal diversos | C68: =IFERROR(VLOOKUP(A68,'BLCE JUL-26'!$A$2:$F$1048576,6,0),0) -> 24998159 | E68: =IFERROR(VLOOKUP(A68,'BLCE JUL-25'!$A$9:$F$1048576,6,0),0) -> 0 | G68: =+C68-E68 -> 24998159 | H68: 1
A69: 5111 | B69: Generales | C69: =IFERROR(VLOOKUP(A69,'BLCE JUL-26'!$A$2:$F$1048576,6,0),0) -> 1.2709256e+09 | E69: =IFERROR(VLOOKUP(A69,'BLCE JUL-25'!$A$9:$F$1048576,6,0),0) -> 1.2210642e+09 | G69: =+C69-E69 -> 49861440 | H69: =+G69/E69 -> 0.040834414
A70: 5120 | B70: Impuestos, contribuciones y tasas | C70: =IFERROR(VLOOKUP(A70,'BLCE JUL-26'!$A$2:$F$1048576,6,0),0) -> 38669000 | E70: =IFERROR(VLOOKUP(A70,'BLCE JUL-25'!$A$9:$F$1048576,6,0),0) -> 34491000 | G70: =+C70-E70 -> 4178000 | H70: =+G70/E70 -> 0.12113305
...

Sheet ANEXO 5
A1: ANEXO No. 5
A2: INSTITUTO NACIONAL PARA CIEGOS - INCI
A3: ESTADO DE CAMBIOS EN EL PATRIMONIO
A4: COMPARATIVO A DICIEMBRE 2025-2024
A5: Cifras en pesos
L7: 1.0215127e+09
B8: SALDO DEL PATRIMONIO A DICIEMBRE 31 DE 2024 | I8: =+'ANEXO 2'!E142 -> 1.2469472e+10 | L8: =+L7+I10 -> 1.0999952e+09
B10: VARIACIONES PATRIMONIALES DURANTE DICIEMBRE 2025 | I10: =+I12-I8 -> 78482429 | L10: =+#REF!+L7 -> #REF!
B12: SALDO DEL PATRIMONIO A DICIEMBRE 31 DE 2025 | I12: =+'ANEXO 1'!C51 -> 1.2547954e+10
C16: DETALLE DE LAS VARIACIONES PATRIMONIALES | M16: PERIODO 2025 | N16: 2023 | O16: PERIIODO 2024
G18: PERIODO ANTERIOR 2024 | H18: PERIODO ACTUAL 2025 | K18: 31 | L18: Patrimonio de las entidades de Gobierno | M18: 9.3046888e+09 | O18: 1.1417587e+10
C20: INCREMENTOS: | I20: =SUM(I22:I24) -> -2.1128983e+09 | K20: 3105 | L20: Capital fiscal | M20: 2.2950386e+09 | O20: 2.2950386e+09 | P20: NO VARIA
K21: 3109 | L21: Resultado de ejercicios anteriores | M21: 9.1225485e+09 | O21: 1.0144061e+10 | P21: DISMINUYE
B22: 3105 | C22: Capital fiscal | G22: =+O20 -> 2.2950386e+09 | H22: =+M20 -> 2.2950386e+09 | I22: =+H22-G22 -> 0 | K22: 3110 | L22: Resultado del ejercicio | M22: -2.1128983e+09 | O22: -1.0215127e+09 | P22: INCREMENTA
B23: 3109 | C23: Resultado de ejercicios anteriores | G23: =+O21 -> 1.0144061e+10 | H23: =+M21 -> 9.1225485e+09 | I23: =+H23-G23 -> -1.0215127e+09
B24: 3110 | C24: Resultado del ejercicio | G24: =+O22 -> -1.0215127e+09 | H24: =+M22 -> -2.1128983e+09 | I24: =+H24-G24 -> -1.0913856e+09
L25: TOTAL PATRIMONIO | M25: 9.3046888e+09 | O25: 1.1417587e+10
C26: DISMINUCIONES: | I26: =SUM(I29:I30) -> 0
B28: 3105 | C28: Capital fiscal | G28: 0 | H28: 0 | I28: =+H28-G28 -> 0
B29: 3109 | C29: Resultado de ejercicios anteriores | G29: 0 | H29: 0 | I29: =+H29-G29 -> 0
B30: 3110 | C30: Resultado del ejercicio | G30: 0 | H30: 0 | I30: =+H30-G30 -> 0
C32: VARIACIÓN PATRIMONIAL | I32: =+I20+I26 -> -2.1128983e+09
B37: =+'ANEXO 1'!A66 -> EDNA VIVIANA VEGA ORTÍZ | G37: =+'ANEXO 1'!D66 -> Cont. Púb. YAIR CONSUELO CALDERÓN SILVA
B38: =+'ANEXO 1'!A67 -> Cèdula de ciudadanìa No. 1.019.023.923 | G38: =+'ANEXO 1'!D67 -> Cèdula de ciudadanìa No. 52.713.929
B39: =+'ANEXO 1'!A68 -> Coordinadora Administrativa y Financiera | G39: =+'ANEXO 1'!D68 -> TP 199275-T
G40: =+'ANEXO 1'!D69 -> Los saldos fueron tomados de SIIF Nación
A43: =+'ANEXO 1'!A74:H74 -> ANDREA CAROLINA CHACÓN CASTILLO
A44: =+'ANEXO 1'!A75:H75 -> Cèdula de ciudadanìa No. 1.100.959.001
A45: =+'ANEXO 1'!A76:H76 -> Directora General
B49: "Trabajamos por una Colombia mas incluyente" Dirección: Carrera 13 No. 34-91 Bogotá, D.C., Colombia PBX: 601 3846666 Bogotá, D.C. Colombia aciudadano@inci.gov.co www.inci.gov.co

Sheet NOTAS
A1: INSTITUTO NACIONAL PARA CIEGOS - INCI
A2: NOTAS A LOS ESTADOS FINANCIEROS
A3: A 31 DE JULIO DE 2026
A4: (Cifras en pesos)
A7: CÓDIGO
A9: 1 | C9: ACTIVO
A11: 11 | B11: 11 | C11: EFECTIVO Y EQUIVALENTE AL EFECTIVO | I11: =+G13+G17 -> 14888679
B13: 1105 | C13: Caja | G13: =SUM(E14:E15) -> 1346000
C14: Caja menor - Efectivo | E14: =+'BLCE JUL-26'!F13 -> 1346000
C15: Caja menor - Cuenta corriente-Funcionamiento | E15: 0
B17: 1110 | C17: Bancos | G17: =SUM(E18:E22) -> 13542679 | L17: =+'BLCE JUL-26'!F15 -> 13542679
C18: Banco Davivienda - Cuenta No.014098263 - INVERSION | E18: 0
C19: Banco Davivienda - Cuenta No. 014098271 - TRANSFERENCIAS | E19: 0
C20: Banco Davivienda - Cuenta No.014098289 - GASTOS GENERALES | E20: =+'CTAS BRIAS'!K16 -> 0
C21: Banco Davivienda - Cuenta No.014098297 - RENTAS ADMINISTRADAS | E21: =+'CTAS BRIAS'!K14 -> 5204722.4
C22: Banco Davivienda - Cuenta No. 014990949 - SERVICIOS PERSONALES | E22: =+'CTAS BRIAS'!K15 -> 8337957
A24: 12 | C24: INVERSIONES E INSTRUMENTOS DERIVADOS | I24: =+G26 -> 1000
B26: 1222 | C26: Inversiones de administración de liquidez a valor del mercado | G26: =+E27 -> 1000
C27: Acerías Paz del Rio SA | E27: =+'BLCE JUL-26'!F19 -> 1000
A29: 13 | C29: CUENTAS POR COBRAR | I29: =+G31+G41 -> 3.445962e+09
B31: 1316 | C31: Venta de bienes | G31: =SUM(E32:E39) -> 3.3998387e+09
C32: =+L32 -> VANTI S.A ESP | E32: =+M32 -> 254309.41 | L32: VANTI S.A ESP | M32: 254309.41
C33: =+L33 -> SUPERINTENDENCIA DE INDUSTRIA Y COMERCIO | E33: =+M33 -> 3497529 | L33: SUPERINTENDENCIA DE INDUSTRIA Y COMERCIO | M33: 3497529
C34: =+L34 -> THOMAS GREG & SONS LIMITED GUERNSEY S A | E34: =+M34 -> 3.3898656e+09 | L34: THOMAS GREG & SONS LIMITED GUERNSEY S A | M34: 3.3898656e+09
C35: =+L35 -> PONTIFICIA UNIVERSIDAD JAVERIANA | E35: =+M35 -> 217785.6 | L35: PONTIFICIA UNIVERSIDAD JAVERIANA | M35: 217785.6
C36: =+L36 -> COMPAÑIA DE FINANCIAMIENTO TUYA S.A | E36: =+M36 -> 83474.99 | L36: COMPAÑIA DE FINANCIAMIENTO TUYA S.A | M36: 83474.99
C37: =+L37 -> ENEL COLOMBIA S.A E.S.P | E37: =+M37 -> 825228.44 | L37: ENEL COLOMBIA S.A E.S.P | M37: 825228.44
C38: =+L38 -> CADENA S . A . | E38: =+M38 -> 5076796.9 | L38: CADENA S . A . | M38: 5076796.9
C39: =+L39 -> Tercero facturacion ventas a plazos | E39: =+M39 -> 17964.42 | L39: Tercero facturacion ventas a plazos | M39: 17964.42
B41: 1384 | C41: Otras cuentas por cobrar-Incapacidades | G41: =SUM(E42:E47) -> 46123281
C42: =+L42 -> EPS SURAMERICANA S. A | E42: =+M42 -> 1105297 | L42: EPS SURAMERICANA S. A | M42: 1105297 | O42: EPS SURAMERICANA S. A | P42: 1105297 | Q42: =+M42-P42 -> 0
C43: =+L43 -> ENTIDAD PROMOTORA DE SALUD SANITAS S A S | E43: =+M43 -> 24014484 | L43: ENTIDAD PROMOTORA DE SALUD SANITAS S A S | M43: 24014484 | O43: ENTIDAD PROMOTORA DE SALUD SANITAS S A S | P43: 24014484 | Q43: =+M43-P43 -> 0
C44: =+L44 -> ENTIDAD PROMOTORA DE SALUD FAMISANAR S A S | E44: =+M44 -> 4007927 | L44: ENTIDAD PROMOTORA DE SALUD FAMISANAR S A S | M44: 4007927 | O44: ENTIDAD PROMOTORA DE SALUD FAMISANAR S A S | P44: 4007927 | Q44: =+M44-P44 -> 0
C45: =+L45 -> POSITIVA COMPAÑIA DE SEGUROS S. A. | E45: =+M45 -> 1965406 | L45: POSITIVA COMPAÑIA DE SEGUROS S. A. | M45: 1965406 | O45: POSITIVA COMPAÑIA DE SEGUROS S. A. | P45: 1965406 | Q45: =+M45-P45 -> 0
C46: =+L46 -> INSTITUTO NACIONAL PARA CIEGOS | E46: =+M46 -> 5685055.1 | L46: INSTITUTO NACIONAL PARA CIEGOS | M46: 5685055.1 | O46: INSTITUTO NACIONAL PARA CIEGOS | P46: 5685055.1 | Q46: =+M46-P46 -> 0
C47: =+L47 -> CAJA DE COMPENSACION FAMILIAR COMPENSAR | E47: =+M47 -> 9345112 | L47: CAJA DE COMPENSACION FAMILIAR COMPENSAR | M47: 9345112 | O47: CAJA DE COMPENSACION FAMILIAR COMPENSAR | P47: 9345112 | Q47: =+M47-P47 -> 0
A49: 15 | C49: INVENTARIOS | I49: =+G51+G54+G60+G65+G57 -> 6.2507141e+08 | L49: =+'BLCE JUL-26'!F29 -> 6.2507141e+08 | M49: =+I49-L49 -> 0
B51: 1505 | C51: Bienes Producidos | G51: =+E52 -> 2.5226252e+08
B52: 150506001 | C52: =VLOOKUP(B52,'BLCE MAR-26'!A9:B1048576,2,0) -> Impresos y publicaciones | E52: =IFERROR(VLOOKUP(B52,'BLCE JUL-26'!$A$10:$F$1048576,6,0),0) -> 2.5226252e+08
B54: 1510 | C54: Mercancías en existencia | G54: =+E55 -> 92828150
...

Sheet BLCE MAR-26
A2: Informacion_1 | B2: Informacion_2
A3: Codigo de Consolidacion | B3: 025800000
A4: Descripcion | B4: INSTITUTO NACIONAL PARA CIEGOS -INCI-
A5: Fecha | B5: 2026-05-19 20:04:21
A6: Fecha Inicial Periodo Inicial | B6: 2026-03-01 00:00:00
A7: Fecha Final Periodo Final | B7: 2026-03-31 00:00:00
A9: Codigo | B9: Descripcion | C9: Saldo Inicial | D9: Movimientos Debito | E9: Movimientos Credito | F9: Saldo Final
A10: 1 | B10: ACTIVOS | C10: 1.0572383e+10 | D10: 4.9764198e+08 | E10: 3.2136025e+08 | F10: 1.0748665e+10 | G10: =LEN(A10) -> 1 | I10: 1 | J10: ACTIVO | K10: =IFERROR(VLOOKUP(I10,$A$8:$F$1000,6,0),0) -> 1.0748665e+10
A11: 11 | B11: EFECTIVO Y EQUIVALENTES AL EFECTIVO | C11: 10498448 | D11: 1.3686368e+08 | E11: 132223240 | F11: 15138889 | G11: =LEN(A11) -> 2 | I11: 2 | J11: PASIVO | K11: =IFERROR(VLOOKUP(I11,$A$9:$F$1000,6,0),0) -> 9.7228101e+08
A12: 1105 | B12: CAJA | C12: 1346000 | D12: 0 | E12: 0 | F12: 1346000 | G12: =LEN(A12) -> 4 | I12: 3 | J12: PATRIMONIO | K12: =IFERROR(VLOOKUP(I12,$A$9:$F$1000,6,0),0) -> 9.3046888e+09
A13: 110502 | B13: Caja menor | C13: 1346000 | D13: 0 | E13: 0 | F13: 1346000 | G13: =LEN(A13) -> 6 | K13: =+K10-K11-K12 -> 4.7169513e+08
A14: 110502002 | B14: Cuenta corriente | C14: 1346000 | D14: 0 | E14: 0 | F14: 1346000 | G14: =LEN(A14) -> 9
A15: 1110 | B15: DEPÓSITOS EN INSTITUCIONES FINANCIERAS | C15: 9152448.3 | D15: 1.3686368e+08 | E15: 132223240 | F15: 13792889 | G15: =LEN(A15) -> 4 | I15: 4 | J15: INGRESOS | K15: =IFERROR(VLOOKUP(I15,$A$9:$F$1000,6,0),0) -> 2.1636437e+09
A16: 111005 | B16: Cuenta corriente | C16: 9152448.3 | D16: 1.3686368e+08 | E16: 132223240 | F16: 13792889 | G16: =LEN(A16) -> 6 | I16: 5 | J16: GASTOS | K16: =IFERROR(VLOOKUP(I16,$A$9:$F$1000,6,0),0) -> 1.6258277e+09
A17: 111005001 | B17: Cuenta corriente | C17: 9152448.3 | D17: 1.3686368e+08 | E17: 132223240 | F17: 13792889 | G17: =LEN(A17) -> 9 | I17: 6 | J17: COSTOS DE VENTAS | K17: =IFERROR(VLOOKUP(I17,$A$9:$F$1000,6,0),0) -> 66120868
A18: 12 | B18: INVERSIONES E INSTRUMENTOS DERIVADOS | C18: 1000 | D18: 0 | E18: 0 | F18: 1000 | G18: =LEN(A18) -> 2 | I18: 7 | J18: COSTOS DE TRANSFORMACIÒN | K18: =IFERROR(VLOOKUP(I18,$A$9:$F$1000,6,0),0) -> 0
A19: 1222 | B19: INVERSIONES DE ADMINISTRACIÓN DE LIQUIDEZ A VALOR DE MERCADO (VALOR RAZONABLE) CON CAMBIOS EN EL PATRIMONIO (OTRO RESULTADO INTEGRAL) | C19: 1000 | D19: 0 | E19: 0 | F19: 1000 | G19: =LEN(A19) -> 4
A20: 122202 | B20: Instrumentos de patrimonio - empresas privadas | C20: 1000 | D20: 0 | E20: 0 | F20: 1000 | G20: =LEN(A20) -> 6 | J20: UTILIDAD | K20: =+K15-K16-K17-K18 -> 4.7169513e+08
A21: 122202001 | B21: Instrumentos de patrimonio - empresas privadas | C21: 1000 | D21: 0 | E21: 0 | F21: 1000 | G21: =LEN(A21) -> 9
A22: 13 | B22: CUENTAS POR COBRAR | C22: 74350742 | D22: 28516695 | E22: 43012302 | F22: 59855134 | G22: =LEN(A22) -> 2 | J22: COMPROBACIÓN | K22: =+K13-K20 -> 0
A23: 1316 | B23: VENTA DE BIENES | C23: 33063261 | D23: 24906476 | E23: 43012302 | F23: 14957434 | G23: =LEN(A23) -> 4
A24: 131606 | B24: Bienes comercializados | C24: 33063261 | D24: 24906476 | E24: 43012302 | F24: 14957434 | G24: =LEN(A24) -> 6
A25: 131606001 | B25: Bienes comercializados | C25: 33063261 | D25: 24906476 | E25: 43012302 | F25: 14957434 | G25: =LEN(A25) -> 9
A26: 1384 | B26: OTRAS CUENTAS POR COBRAR | C26: 41287481 | D26: 3610219 | E26: 0 | F26: 44897700 | G26: =LEN(A26) -> 4
A27: 138426 | B27: Pago por cuenta de terceros | C27: 41287481 | D27: 3610219 | E27: 0 | F27: 44897700 | G27: =LEN(A27) -> 6
A28: 138426001 | B28: Pago por cuenta de terceros | C28: 41287481 | D28: 3610219 | E28: 0 | F28: 44897700 | G28: =LEN(A28) -> 9
A29: 15 | B29: INVENTARIOS | C29: 6.3395124e+08 | D29: 0 | E29: 0.68 | F29: 6.3395124e+08 | G29: =LEN(A29) -> 2
A30: 1505 | B30: BIENES PRODUCIDOS | C30: 2.5659446e+08 | D30: 0 | E30: 0.68 | F30: 2.5659446e+08 | G30: =LEN(A30) -> 4
A31: 150506 | B31: Impresos y publicaciones | C31: 2.5659446e+08 | D31: 0 | E31: 0.68 | F31: 2.5659446e+08 | G31: =LEN(A31) -> 6
A32: 150506001 | B32: Impresos y publicaciones | C32: 2.5659446e+08 | D32: 0 | E32: 0.68 | F32: 2.5659446e+08 | G32: =LEN(A32) -> 9
A33: 1510 | B33: MERCANCÍAS EN EXISTENCIA | C33: 1.1320073e+08 | D33: 0 | E33: 0 | F33: 1.1320073e+08 | G33: =LEN(A33) -> 4
A34: 151029 | B34: Elementos para invidentes | C34: 1.1320073e+08 | D34: 0 | E34: 0 | F34: 1.1320073e+08 | G34: =LEN(A34) -> 6
... A135: 1970 | B135: ACTIVOS INTANGIBLES | C135: 1.3718056e+09 | D135: 0 | E135: 0 | F135: 1.3718056e+09 | G135: =LEN(A135) -> 4
A136: 197005 | B136: Derechos | C136: 608276128 | D136: 0 | E136: 0 | F136: 608276128 | G136: =LEN(A136) -> 6 | I136: =+F136+F139 -> 1.3570056e+09
A137: 197005001 | B137: Derechos | C137: 608276128 | D137: 0 | E137: 0 | F137: 608276128 | G137: =LEN(A137) -> 9
A138: 197007 | B138: Licencias | C138: 7.4872952e+08 | D138: 0 | E138: 0 | F138: 7.4872952e+08 | G138: =LEN(A138) -> 6
A139: 197007001 | B139: Licencias | C139: 7.4872952e+08 | D139: 0 | E139: 0 | F139: 7.4872952e+08 | G139: =LEN(A139) -> 9
A140: 197008 | B140: Softwares | C140: 14800000 | D140: 0 | E140: 0 | F140: 14800000 | G140: =LEN(A140) -> 6
A141: 197008001 | B141: Softwares | C141: 14800000 | D141: 0 | E141: 0 | F141: 14800000 | G141: =LEN(A141) -> 9
A142: 1975 | B142: AMORTIZACIÓN ACUMULADA DE ACTIVOS INTANGIBLES (CR) | C142: -1.0189747e+09 | D142: 4864981 | E142: 10133844 | F142: -1.0242436e+09 | G142: =LEN(A142) -> 4
...

Sheet BLCE JUL-26
A2: Informacion_1 | B2: Informacion_2
A3: Codigo de Consolidacion | B3: 025800000
A4: Descripcion | B4: INSTITUTO NACIONAL PARA CIEGOS -INCI-
A5: Fecha | B5: 2026-08-26 18:46:16
A6: Fecha Inicial Periodo Inicial | B6: 2026-07-01 00:00:00
A7: Fecha Final Periodo Final | B7: 2026-07-31 00:00:00
A9: Codigo | B9: Descripcion | C9: Saldo Inicial | D9: Movimientos Debito | E9: Movimientos Credito | F9: Saldo Final | H9: 1 | I9: ACTIVO | J9: =IFERROR(VLOOKUP(H9,$A$8:$F$819,6,0),0) -> 1.395146e+10
A10: 1 | B10: ACTIVOS | C10: 1.4020559e+10 | D10: 7.0803261e+08 | E10: 7.7713174e+08 | F10: 1.395146e+10 | G10: =LEN(A10) -> 1 | H10: 2 | I10: PASIVO | J10: =IFERROR(VLOOKUP(H10,$A$9:$F$819,6,0),0) -> 1.4035058e+09
A11: 11 | B11: EFECTIVO Y EQUIVALENTES AL EFECTIVO | C11: 8154515.2 | D11: 1.320977e+08 | E11: 1.2536353e+08 | F11: 14888679 | G11: =LEN(A11) -> 2 | H11: 3 | I11: PATRIMONIO | J11: =IFERROR(VLOOKUP(H11,$A$9:$F$819,6,0),0) -> 9.3046888e+09
A12: 1105 | B12: CAJA | C12: 1346000 | D12: 0 | E12: 0 | F12: 1346000 | G12: =LEN(A12) -> 4 | J12: =+J9-J10-J11 -> 3.2432654e+09
A13: 110502 | B13: Caja menor | C13: 1346000 | D13: 0 | E13: 0 | F13: 1346000 | G13: =LEN(A13) -> 6
A14: 110502002 | B14: Cuenta corriente | C14: 1346000 | D14: 0 | E14: 0 | F14: 1346000 | G14: =LEN(A14) -> 9 | H14: 4 | I14: INGRESOS | J14: =IFERROR(VLOOKUP(H14,$A$9:$F$819,6,0),0) -> 7.7816896e+09
A15: 1110 | B15: DEPÓSITOS EN INSTITUCIONES FINANCIERAS | C15: 6808515.2 | D15: 1.320977e+08 | E15: 1.2536353e+08 | F15: 13542679 | G15: =LEN(A15) -> 4 | H15: 5 | I15: GASTOS | J15: =IFERROR(VLOOKUP(H15,$A$9:$F$819,6,0),0) -> 4.4500549e+09
A16: 111005 | B16: Cuenta corriente | C16: 6808515.2 | D16: 1.320977e+08 | E16: 1.2536353e+08 | F16: 13542679 | G16: =LEN(A16) -> 6 | H16: 6 | I16: COSTOS DE VENTAS | J16: =IFERROR(VLOOKUP(H16,$A$9:$F$819,6,0),0) -> 88369297
A17: 111005001 | B17: Cuenta corriente | C17: 6808515.2 | D17: 1.320977e+08 | E17: 1.2536353e+08 | F17: 13542679 | G17: =LEN(A17) -> 9 | H17: 7 | I17: CTOS DE TRANSFORMACIÒN | J17: =IFERROR(VLOOKUP(H17,$A$9:$F$819,6,0),0) -> 0
A18: 12 | B18: INVERSIONES E INSTRUMENTOS DERIVADOS | C18: 1000 | D18: 0 | E18: 0 | F18: 1000 | G18: =LEN(A18) -> 2
A19: 1222 | B19: INVERSIONES DE ADMINISTRACIÓN DE LIQUIDEZ A VALOR DE MERCADO (VALOR RAZONABLE) CON CAMBIOS EN EL PATRIMONIO (OTRO RESULTADO INTEGRAL) | C19: 1000 | D19: 0 | E19: 0 | F19: 1000 | G19: =LEN(A19) -> 4 | I19: UTILIDAD | J19: =+J14-J15-J16-J17 -> 3.2432654e+09
A20: 122202 | B20: Instrumentos de patrimonio - empresas privadas | C20: 1000 | D20: 0 | E20: 0 | F20: 1000 | G20: =LEN(A20) -> 6
A21: 122202001 | B21: Instrumentos de patrimonio - empresas privadas | C21: 1000 | D21: 0 | E21: 0 | F21: 1000 | G21: =LEN(A21) -> 9 | I21: COMPROBACIÓN | J21: =+J12-J19 -> 0
A22: 13 | B22: CUENTAS POR COBRAR | C22: 3.4466767e+09 | D22: 8126516 | E22: 8841289.1 | F22: 3.445962e+09 | G22: =LEN(A22) -> 2
A23: 1316 | B23: VENTA DE BIENES | C23: 3.4005535e+09 | D23: 8126516 | E23: 8841289.1 | F23: 3.3998387e+09 | G23: =LEN(A23) -> 4
A24: 131606 | B24: Bienes comercializados | C24: 3.4005535e+09 | D24: 8126516 | E24: 8841289.1 | F24: 3.3998387e+09 | G24: =LEN(A24) -> 6
A25: 131606001 | B25: Bienes comercializados | C25: 3.4005535e+09 | D25: 8126516 | E25: 8841289.1 | F25: 3.3998387e+09 | G25: =LEN(A25) -> 9
A26: 1384 | B26: OTRAS CUENTAS POR COBRAR | C26: 46123281 | D26: 0 | E26: 0 | F26: 46123281 | G26: =LEN(A26) -> 4
A27: 138426 | B27: Pago por cuenta de terceros | C27: 46123281 | D27: 0 | E27: 0 | F27: 46123281 | G27: =LEN(A27) -> 6
A28: 138426001 | B28: Pago por cuenta de terceros | C28: 46123281 | D28: 0 | E28: 0 | F28: 46123281 | G28: =LEN(A28) -> 9
A29: 15 | B29: INVENTARIOS | C29: 6.3210569e+08 | D29: 24852172 | E29: 31886453 | F29: 6.2507141e+08 | G29: =LEN(A29) -> 2
A30: 1505 | B30: BIENES PRODUCIDOS | C30: 2.5474891e+08 | D30: 360243.9 | E30: 2846633.8 | F30: 2.5226252e+08 | G30: =LEN(A30) -> 4
A31: 150506 | B31: Impresos y publicaciones | C31: 2.5474891e+08 | D31: 360243.9 | E31: 2846633.8 | F31: 2.5226252e+08 | G31: =LEN(A31) -> 6
A32: 150506001 | B32: Impresos y publicaciones | C32: 2.5474891e+08 | D32: 360243.9 | E32: 2846633.8 | F32: 2.5226252e+08 | G32: =LEN(A32) -> 9
A33: 1510 | B33: MERCANCÍAS EN EXISTENCIA | C33: 1.1320073e+08 | D33: 1412319 | E33: 21784895 | F33: 92828150 | G33: =LEN(A33) -> 4
... A69: 165007001 | B69: Líneas y cables de interconexión | C69: 65631390 | D69: 0 | E69: 0 | F69: 65631390 | G69: =LEN(A69) -> 9
A70: 1655 | B70: MAQUINARIA Y EQUIPO | C70: 2.2790753e+09 | D70: 265246000 | E70: 265246000 | F70: 2.2790753e+09 | G70: =LEN(A70) -> 4 | I70: =+F457 -> 0
A71: 165504 | B71: Maquinaria industrial | C71: 2.1894035e+09 | D71: 265246000 | E71: 265246000 | F71: 2.1894035e+09 | G71: =LEN(A71) -> 6 | I71: =+F458 -> 0
A72: 165504001 | B72: Maquinaria industrial | C72: 2.1894035e+09 | D72: 265246000 | E72: 265246000 | F72: 2.1894035e+09 | G72: =LEN(A72) -> 9
A73: 165509 | B73: Equipo de enseñanza | C73: 20767921 | D73: 0 | E73: 0 | F73: 20767921 | G73: =LEN(A73) -> 6
A74: 165509001 | B74: Equipo de enseñanza | C74: 20767921 | D74: 0 | E74: 0 | F74: 20767921 | G74: =LEN(A74) -> 9
A75: 165511 | B75: Herramientas y accesorios | C75: 3379519 | D75: 0 | E75: 0 | F75: 3379519 | G75: =LEN(A75) -> 6
A76: 165511001 | B76: Herramientas y accesorios | C76: 3379519 | D76: 0 | E76: 0 | F76: 3379519 | G76: =LEN(A76) -> 9
A77: 165522 | B77: Equipo de ayuda audiovisual | C77: 65524371 | D77: 0 | E77: 0 | F77: 65524371 | G77: =LEN(A77) -> 6
...

Sheet BLCE JUL-25
A2: Informacion_1 | B2: Informacion_2
A3: Codigo de Consolidacion | B3: 025800000
A4: Descripcion | B4: INSTITUTO NACIONAL PARA CIEGOS -INCI-
A5: Fecha | B5: 2025-08-25 18:32:25
A6: Fecha Inicial Periodo Inicial | B6: 2025-07-01 00:00:00
A7: Fecha Final Periodo Final | B7: 2025-07-31 00:00:00
H8: 1 | I8: ACTIVO | J8: =IFERROR(VLOOKUP(H8,$A$8:$F$1388,6,0),0) -> 1.2166754e+10
A9: Codigo | B9: Descripcion | C9: Saldo Inicial | D9: Movimientos Debito | E9: Movimientos Credito | F9: Saldo Final | G9: =LEN(A9) -> 6 | H9: 2 | I9: PASIVO | J9: =IFERROR(VLOOKUP(H9,$A$9:$F$1388,6,0),0) -> 1.4663223e+09
A10: 1 | B10: ACTIVOS | C10: 1.2116669e+10 | D10: 2.240725e+08 | E10: 1.739878e+08 | F10: 1.2166754e+10 | G10: =LEN(A10) -> 1 | H10: 3 | I10: PATRIMONIO | J10: =IFERROR(VLOOKUP(H10,$A$9:$F$1388,6,0),0) -> 1.1417587e+10
A11: 11 | B11: EFECTIVO Y EQUIVALENTES AL EFECTIVO | C11: 1.5158019e+08 | D11: 1.4809197e+08 | E11: 0 | F11: 2.9967216e+08 | G11: =LEN(A11) -> 2 | J11: =+J8-J9-J10 -> -7.1715579e+08
A12: 1105 | B12: CAJA | C12: 600000 | D12: 0 | E12: 0 | F12: 600000 | G12: =LEN(A12) -> 4
A13: 110502 | B13: Caja menor | C13: 600000 | D13: 0 | E13: 0 | F13: 600000 | G13: =LEN(A13) -> 6 | H13: 4 | I13: INGRESOS | J13: =IFERROR(VLOOKUP(H13,$A$9:$F$1388,6,0),0) -> 4.0965301e+09
A14: 110502002 | B14: Cuenta corriente | C14: 600000 | D14: 0 | E14: 0 | F14: 600000 | G14: =LEN(A14) -> 9 | H14: 5 | I14: GASTOS | J14: =IFERROR(VLOOKUP(H14,$A$9:$F$1388,6,0),0) -> 4.7678675e+09
A15: 1110 | B15: DEPÓSITOS EN INSTITUCIONES FINANCIERAS | C15: 1.5098019e+08 | D15: 1.4809197e+08 | E15: 0 | F15: 2.9907216e+08 | G15: =LEN(A15) -> 4 | H15: 6 | I15: COSTOS DE VENTAS | J15: =IFERROR(VLOOKUP(H15,$A$9:$F$1388,6,0),0) -> 45818368
A16: 111005 | B16: Cuenta corriente | C16: 1.5098019e+08 | D16: 1.4809197e+08 | E16: 0 | F16: 2.9907216e+08 | G16: =LEN(A16) -> 6 | H16: 7 | I16: COSTOS DE TRANSFORMACIÒN | J16: =IFERROR(VLOOKUP(H16,$A$9:$F$1388,6,0),0) -> 0
A17: 111005001 | B17: Cuenta corriente | C17: 1.5098019e+08 | D17: 1.4809197e+08 | E17: 0 | F17: 2.9907216e+08 | G17: =LEN(A17) -> 9
A18: 12 | B18: INVERSIONES E INSTRUMENTOS DERIVADOS | C18: 1000 | D18: 0 | E18: 0 | F18: 1000 | G18: =LEN(A18) -> 2 | I18: UTILIDAD | J18: =+J13-J14-J15-J16 -> -7.1715579e+08
A19: 1222 | B19: INVERSIONES DE ADMINISTRACIÓN DE LIQUIDEZ A VALOR DE MERCADO (VALOR RAZONABLE) CON CAMBIOS EN EL PATRIMONIO (OTRO RESULTADO INTEGRAL) | C19: 1000 | D19: 0 | E19: 0 | F19: 1000 | G19: =LEN(A19) -> 4
A20: 122202 | B20: Instrumentos de patrimonio - empresas privadas | C20: 1000 | D20: 0 | E20: 0 | F20: 1000 | G20: =LEN(A20) -> 6 | I20: COMPROBACIÓN | J20: =+J11-J18 -> 0
A21: 122202001 | B21: Instrumentos de patrimonio - empresas privadas | C21: 1000 | D21: 0 | E21: 0 | F21: 1000 | G21: =LEN(A21) -> 9
A22: 13 | B22: CUENTAS POR COBRAR | C22: 1.3099793e+08 | D22: 4244356.7 | E22: 4244356.7 | F22: 1.3099793e+08 | G22: =LEN(A22) -> 2
A23: 1316 | B23: VENTA DE BIENES | C23: 11971408 | D23: 4244356.7 | E23: 4244356.7 | F23: 11971408 | G23: =LEN(A23) -> 4
A24: 131604 | B24: Bienes producidos | C24: 636013.14 | D24: 0 | E24: 0 | F24: 636013.14 | G24: =LEN(A24) -> 6
A25: 131604001 | B25: Bienes producidos | C25: 636013.14 | D25: 0 | E25: 0 | F25: 636013.14 | G25: =LEN(A25) -> 9
A26: 131606 | B26: Bienes comercializados | C26: 11335395 | D26: 4244356.7 | E26: 4244356.7 | F26: 11335395 | G26: =LEN(A26) -> 6
A27: 131606001 | B27: Bienes comercializados | C27: 11335395 | D27: 4244356.7 | E27: 4244356.7 | F27: 11335395 | G27: =LEN(A27) -> 9
A28: 1384 | B28: OTRAS CUENTAS POR COBRAR | C28: 1.1902653e+08 | D28: 0 | E28: 0 | F28: 1.1902653e+08 | G28: =LEN(A28) -> 4
A29: 138426 | B29: Pago por cuenta de terceros | C29: 1.1775237e+08 | D29: 0 | E29: 0 | F29: 1.1775237e+08 | G29: =LEN(A29) -> 6
A30: 138426001 | B30: Pago por cuenta de terceros | C30: 1.1775237e+08 | D30: 0 | E30: 0 | F30: 1.1775237e+08 | G30: =LEN(A30) -> 9
A31: 138490 | B31: Otras cuentas por cobrar | C31: 1274160.9 | D31: 0 | E31: 0 | F31: 1274160.9 | G31: =LEN(A31) -> 6
A32: 138490001 | B32: Otras cuentas por cobrar | C32: 1274160.9 | D32: 0 | E32: 0 | F32: 1274160.9 | G32: =LEN(A32) -> 9
... A187: 242490 | B187: Otros descuentos de nómina | C187: 3721406 | D187: 0 | E187: 639823 | F187: 4361229 | G187: =LEN(A187) -> 6
A188: 242490001 | B188: Otros descuentos de nómina | C188: 3721406 | D188: 0 | E188: 639823 | F188: 4361229 | G188: =LEN(A188) -> 9
A189: 2436 | B189: RETENCIÓN EN LA FUENTE E IMPUESTO DE TIMBRE | C189: 25144762 | D189: 26542556 | E189: 28226804 | F189: 26829010 | G189: =LEN(A189) -> 4
A190: 243603 | B190: Honorarios | C190: 96498 | D190: 191725 | E190: 526375 | F190: 431148 | G190: =LEN(A190) -> 6
A191: 243603001 | B191: Retenido | C191: 409548 | D191: 95725 | E191: 526375 | F191: 840198 | G191: =LEN(A191) -> 9
A192: 243603002 | B192: Pagado (db) | C192: -313050 | D192: 96000 | E192: 0 | F192: -409050 | G192: =LEN(A192) -> 9
A193: 243605 | B193: Servicios | C193: 2661352 | D193: 3403511 | E193: 3114111 | F193: 2371952 | G193: =LEN(A193) -> 6
A194: 243605001 | B194: Retenido | C194: 4915018 | D194: 1686511 | E194: 1635111 | F194: 4863618 | G194: =LEN(A194) -> 9
A195: 243605002 | B195: Pagado (db) | C195: -2253666 | D195: 1717000 | E195: 1479000 | F195: -2491666 | G195: =LEN(A195) -> 9
...

Sheet ACT X TER
B2: CONSULTA | C2: FECHA CORTE | D2: FECHA REPORTE | E2: ECP | F2: CODIGO | G2: DESCRIPCIÓN | H2: TIPO AUXILIAR CONTABLE | I2: CODIGO AUXILIAR | J2: DESCRIPCIÓN AUXILIAR | K2: VALOR AUXILIAR ($) | L2: SALDO FINAL ($)
B3: Consulta Saldos Contables y Auxiliar ECP | C3: 46234 | D3: 46260.785 | E3: 025800000 | F3: 122202001 | G3: Instrumentos de patrimonio - empresas privadas | K3: 0 | L3: 1000
B4: Consulta Saldos Contables y Auxiliar ECP | C4: 46234 | D4: 46260.785 | E4: 025800000 | F4: 122202001 | G4: Instrumentos de patrimonio - empresas privadas | H4: TER | I4: 860029995 | J4: ACERIAS PAZ DEL RIO SA | K4: 1000 | L4: 0
B5: Consulta Saldos Contables y Auxiliar ECP | C5: 46234 | D5: 46260.785 | E5: 025800000 | F5: 131606001 | G5: Bienes comercializados | K5: 0 | L5: 3.3998387e+09
B6: Consulta Saldos Contables y Auxiliar ECP | C6: 46234 | D6: 46260.785 | E6: 025800000 | F6: 131606001 | G6: Bienes comercializados | H6: TER | I6: 800007813 | J6: VANTI S.A ESP | K6: 254309.41 | L6: 0 | N6: =+J6 -> VANTI S.A ESP | O6: =+K6 -> 254309.41
B7: Consulta Saldos Contables y Auxiliar ECP | C7: 46234 | D7: 46260.785 | E7: 025800000 | F7: 131606001 | G7: Bienes comercializados | H7: TER | I7: 800176089 | J7: SUPERINTENDENCIA DE INDUSTRIA Y COMERCIO | K7: 3497529 | L7: 0 | N7: =+J7 -> SUPERINTENDENCIA DE INDUSTRIA Y COMERCIO | O7: =+K7 -> 3497529
B8: Consulta Saldos Contables y Auxiliar ECP | C8: 46234 | D8: 46260.785 | E8: 025800000 | F8: 131606001 | G8: Bienes comercializados | H8: TER | I8: 830012157 | J8: THOMAS GREG & SONS LIMITED GUERNSEY S A | K8: 3.3898656e+09 | L8: 0 | N8: =+J8 -> THOMAS GREG & SONS LIMITED GUERNSEY S A | O8: =+K8 -> 3.3898656e+09
B9: Consulta Saldos Contables y Auxiliar ECP | C9: 46234 | D9: 46260.785 | E9: 025800000 | F9: 131606001 | G9: Bienes comercializados | H9: TER | I9: 860013720 | J9: PONTIFICIA UNIVERSIDAD JAVERIANA | K9: 217785.6 | L9: 0 | N9: =+J9 -> PONTIFICIA UNIVERSIDAD JAVERIANA | O9: =+K9 -> 217785.6
B10: Consulta Saldos Contables y Auxiliar ECP | C10: 46234 | D10: 46260.785 | E10: 025800000 | F10: 131606001 | G10: Bienes comercializados | H10: TER | I10: 860032330 | J10: COMPAÑIA DE FINANCIAMIENTO TUYA S.A | K10: 83474.99 | L10: 0 | N10: =+J10 -> COMPAÑIA DE FINANCIAMIENTO TUYA S.A | O10: =+K10 -> 83474.99
B11: Consulta Saldos Contables y Auxiliar ECP | C11: 46234 | D11: 46260.785 | E11: 025800000 | F11: 131606001 | G11: Bienes comercializados | H11: TER | I11: 860063875 | J11: ENEL COLOMBIA S.A E.S.P | K11: 825228.44 | L11: 0 | N11: =+J11 -> ENEL COLOMBIA S.A E.S.P | O11: =+K11 -> 825228.44
B12: Consulta Saldos Contables y Auxiliar ECP | C12: 46234 | D12: 46260.785 | E12: 025800000 | F12: 131606001 | G12: Bienes comercializados | H12: TER | I12: 890930534 | J12: CADENA S . A . | K12: 5076796.9 | L12: 0 | N12: =+J12 -> CADENA S . A . | O12: =+K12 -> 5076796.9
B13: Consulta Saldos Contables y Auxiliar ECP | C13: 46234 | D13: 46260.785 | E13: 025800000 | F13: 131606001 | G13: Bienes comercializados | H13: TER | I13: ING111 | J13: Tercero facturacion ventas a plazos | K13: 17964.42 | L13: 0 | N13: =+J13 -> Tercero facturacion ventas a plazos | O13: =+K13 -> 17964.42
B14: Consulta Saldos Contables y Auxiliar ECP | C14: 46234 | D14: 46260.785 | E14: 025800000 | F14: 138426001 | G14: Pago por cuenta de terceros | K14: 0 | L14: 46123281
B15: Consulta Saldos Contables y Auxiliar ECP | C15: 46234 | D15: 46260.785 | E15: 025800000 | F15: 138426001 | G15: Pago por cuenta de terceros | H15: TER | I15: 800088702 | J15: EPS SURAMERICANA S. A | K15: 1105297 | L15: 0 | N15: =+J15 -> EPS SURAMERICANA S. A | O15: =+K15 -> 1105297
B16: Consulta Saldos Contables y Auxiliar ECP | C16: 46234 | D16: 46260.785 | E16: 025800000 | F16: 138426001 | G16: Pago por cuenta de terceros | H16: TER | I16: 800251440 | J16: ENTIDAD PROMOTORA DE SALUD SANITAS S A S | K16: 24014484 | L16: 0 | N16: =+J16 -> ENTIDAD PROMOTORA DE SALUD SANITAS S A S | O16: =+K16 -> 24014484
B17: Consulta Saldos Contables y Auxiliar ECP | C17: 46234 | D17: 46260.785 | E17: 025800000 | F17: 138426001 | G17: Pago por cuenta de terceros | H17: TER | I17: 830003564 | J17: ENTIDAD PROMOTORA DE SALUD FAMISANAR S A S | K17: 4007927 | L17: 0 | N17: =+J17 -> ENTIDAD PROMOTORA DE SALUD FAMISANAR S A S | O17: =+K17 -> 4007927
B18: Consulta Saldos Contables y Auxiliar ECP | C18: 46234 | D18: 46260.785 | E18: 025800000 | F18: 138426001 | G18: Pago por cuenta de terceros | H18: TER | I18: 860011153 | J18: POSITIVA COMPAÑIA DE SEGUROS S. A. | K18: 1965406 | L18: 0 | N18: =+J18 -> POSITIVA COMPAÑIA DE SEGUROS S. A. | O18: =+K18 -> 1965406
B19: Consulta Saldos Contables y Auxiliar ECP | C19: 46234 | D19: 46260.785 | E19: 025800000 | F19: 138426001 | G19: Pago por cuenta de terceros | H19: TER | I19: 860015971 | J19: INSTITUTO NACIONAL PARA CIEGOS | K19: 5685055.1 | L19: 0 | N19: =+J19 -> INSTITUTO NACIONAL PARA CIEGOS | O19: =+K19 -> 5685055.1
B20: Consulta Saldos Contables y Auxiliar ECP | C20: 46234 | D20: 46260.785 | E20: 025800000 | F20: 138426001 | G20: Pago por cuenta de terceros | H20: TER | I20: 860066942 | J20: CAJA DE COMPENSACION FAMILIAR COMPENSAR | K20: 9345112 | L20: 0 | N20: =+J20 -> CAJA DE COMPENSACION FAMILIAR COMPENSAR | O20: =+K20 -> 9345112
B21: Consulta Saldos Contables y Auxiliar ECP | C21: 46234 | D21: 46260.785 | E21: 025800000 | F21: 190705001 | G21: Saldo a favor de impuesto a las ventas | K21: 0 | L21: 38288716
B22: Consulta Saldos Contables y Auxiliar ECP | C22: 46234 | D22: 46260.785 | E22: 025800000 | F22: 190705001 | G22: Saldo a favor de impuesto a las ventas | H22: TER | I22: 800197268 | J22: U.A.E. DIRECCION DE IMPUESTOS Y ADUANAS NACIONALES | K22: 38288716 | L22: 0
B23: Consulta Saldos Contables y Auxiliar ECP | C23: 46234 | D23: 46260.785 | E23: 025800000 | F23: 190801001 | G23: En administración | K23: 0 | L23: 9797069.6
B24: Consulta Saldos Contables y Auxiliar ECP | C24: 46234 | D24: 46260.785 | E24: 025800000 | F24: 190801001 | G24: En administración | H24: TER | I24: 860525148 | J24: FIDUCIARIA LA PREVISORA S.A. | K24: 9797069.6 | L24: 0
B25: Consulta Saldos Contables y Auxiliar ECP | C25: 46234 | D25: 46260.785 | E25: 025800000 | F25: 190801002 | G25: En administración dtn - scun | K25: 0 | L25: 1.5155089e+08 | N25: =+J24 -> FIDUCIARIA LA PREVISORA S.A. | O25: =+K24 -> 9797069.6
B26: Consulta Saldos Contables y Auxiliar ECP | C26: 46234 | D26: 46260.785 | E26: 025800000 | F26: 190801002 | G26: En administración dtn - scun | H26: TER | I26: 899999090 | J26: MINISTERIO DE HACIENDA Y CREDITO PUBLICO | K26: 1.5155089e+08 | L26: 0 | N26: =+J26 -> MINISTERIO DE HACIENDA Y CREDITO PUBLICO | O26: =+K26 -> 1.5155089e+08

Sheet CTAS BRIAS
B2: CONSULTA | C2: FECHA CORTE | D2: FECHA REPORTE | E2: ECP | F2: CODIGO | G2: DESCRIPCIÓN | H2: TIPO AUXILIAR CONTABLE | I2: CODIGO AUXILIAR | J2: DESCRIPCIÓN AUXILIAR | K2: VALOR AUXILIAR ($) | L2: VLR EXTRACTO | M2: DIFERENCIA
B3: Consulta Saldos Contables y Auxiliar ECP | C3: 46234 | D3: 46260.786 | E3: 025800000 | F3: 110502002 | G3: Cuenta corriente | H3: CTA BAN | I3: 014121248 | J3: INCI - CAJA MENOR - GASTOS GENERALES - INVERSION | K3: 1346000 | L3: 0 | M3: =+K3-L3 -> 1346000
B4: Consulta Saldos Contables y Auxiliar ECP | C4: 46234 | D4: 46260.786 | E4: 025800000 | F4: 111005001 | G4: Cuenta corriente | H4: CTA BAN | I4: 014098289 | J4: GASTOS GENERALES | K4: -372304.5 | L4: =+'[4]CTAS BRIAS'!$L$6 -> 0 | M4: =+L4-K4 -> 372304.5
B5: Consulta Saldos Contables y Auxiliar ECP | C5: 46234 | D5: 46260.786 | E5: 025800000 | F5: 111005001 | G5: Cuenta corriente | H5: CTA BAN | I5: 014098297 | J5: RENTAS ADMINISTRADAS | K5: 5577026.9 | L5: =+'[4]CTAS BRIAS'!$L$4 -> 10853744 | M5: =+K5-L5 -> -5276717.5
B6: Consulta Saldos Contables y Auxiliar ECP | C6: 46234 | D6: 46260.786 | E6: 025800000 | F6: 111005001 | G6: Cuenta corriente | H6: CTA BAN | I6: 014990949 | J6: SERVICIOS PERSONALES | K6: 8337957 | L6: 1100258 | M6: =+K6-L6 -> 7237699
B11: CONSULTA | C11: FECHA CORTE | D11: FECHA REPORTE | E11: ECP | F11: CODIGO | G11: DESCRIPCIÓN | H11: TIPO AUXILIAR CONTABLE | I11: CODIGO AUXILIAR | J11: DESCRIPCIÓN AUXILIAR | K11: VALOR AUXILIAR ($) | L11: VALOR EXTRACTO | M11: DIFERENCIA
B12: Consulta Saldos Contables y Auxiliar ECP | C12: 46234 | D12: 46260.821 | E12: 025800000 | F12: 110502002 | G12: Cuenta corriente | K12: 0 | L12: 1346000 | M12: =+K12-L12 -> -1346000
B13: Consulta Saldos Contables y Auxiliar ECP | C13: 46234 | D13: 46260.821 | E13: 025800000 | F13: 110502002 | G13: Cuenta corriente | H13: CTA BAN | I13: 014121248 | J13: INCI - CAJA MENOR - GASTOS GENERALES - INVERSION | K13: 1346000 | L13: 0 | M13: =+K13-L13 -> 1346000
B14: Consulta Saldos Contables y Auxiliar ECP | C14: 46234 | D14: 46260.821 | E14: 025800000 | F14: 111005001 | G14: Cuenta corriente | H14: CTA BAN | I14: 014098297 | J14: RENTAS ADMINISTRADAS | K14: 5204722.4 | L14: =+'[4]CTAS BRIAS'!L4 -> 10853744 | M14: =+K14-L14 -> -5649022
B15: Consulta Saldos Contables y Auxiliar ECP | C15: 46234 | D15: 46260.821 | E15: 025800000 | F15: 111005001 | G15: Cuenta corriente | H15: CTA BAN | I15: 014990949 | J15: SERVICIOS PERSONALES | K15: 8337957 | L15: =+'[4]CTAS BRIAS'!L5 -> 1100258 | M15: =+K15-L15 -> 7237699
E16: 025800000 | F16: 111005001 | G16: Cuenta corriente | H16: CTA BAN | I16: 14098289 | J16: GASTOS GENERALES | K16: 0 | L16: 0 | M16: =+K16-L16 -> 0

Sheet PAS X TER
B2: CONSULTA | C2: FECHA CORTE | D2: FECHA REPORTE | E2: ECP | F2: CODIGO | G2: DESCRIPCIÓN | H2: TIPO AUXILIAR CONTABLE | I2: CODIGO AUXILIAR | J2: DESCRIPCIÓN AUXILIAR | K2: VALOR AUXILIAR ($) | L2: SALDO FINAL ($)
B3: Consulta Saldos Contables y Auxiliar ECP | C3: 46234 | D3: 46260.788 | E3: 025800000 | F3: 240101001 | G3: Bienes y servicios | K3: 0 | L3: 187900
B4: Consulta Saldos Contables y Auxiliar ECP | C4: 46234 | D4: 46260.788 | E4: 025800000 | F4: 240101001 | G4: Bienes y servicios | H4: TER | I4: 860015971 | J4: INSTITUTO NACIONAL PARA CIEGOS | K4: 187900 | L4: 0 | N4: Legalización de gastos realizados por caja menor,__ Jul 24 2026 12:00AM, OTRO DOCUMENTO DE COBRO, LEGALIZACION EGRESO JUL-26, ENTIDAD, LEGALIZACION CAJA MENOR 126 JULIO DE 2026
B5: Consulta Saldos Contables y Auxiliar ECP | C5: 46234 | D5: 46260.788 | E5: 025800000 | F5: 243603001 | G5: Retenido | K5: 0 | L5: 3545650
