Workbook

Sheet Intructivo
B2: Matriz Mapa de Riesgos
B4: Teniendo en cuenta que con la expedición del Decreto 1499 de 2017 “Por medio del cual se modifica el Decreto 1083 de 2015, Decreto Único Reglamentario del Sector Función Pública, en lo relacionado con el Sistema de Gestión establecido en el artículo 133 de la Ley 1753 de 2015”, se crea un solo Sistema de Gestión y se alinea con el Sistema de Control Interno, hoy todas las entidades públicas requieren actualizar y/o implementar el Modelo Integrado de Planeación y Gestión MIPG, modelo que incorpora el Modelo Estándar de Control Interno MECI a través de la 7a dimensión del mismo. En este marco general, el proceso de administración del riesgo es un esfuerzo conjunto entre la Alta Dirección y los servidores en todos sus niveles, ejercicio que inicia con la formulación de la política de Administración del Riesgo, la cual incluye los niveles de responsabilidad frente al seguimiento y evaluación, aspectos que deberán definirse acorde con el Esquema de Líneas de Defensa vinculado a la Dimensión 7. Teniendo en cuenta lo anterior y dada la necesidad de las entidades frente a la estructuración de los mapas de riesgos, como herramienta fundamental frente a la gestión del riesgo, el presente formato desarrolla un esquema completo acorde con los contenidos metodológicos de la Guía para la Administración del Riesgo y el diseño de controles V5. El formato cuenta con celdas parametrizadas y permite contar con los respectivos mapas de calor para riesgo inherente y riesgo residual.
B6: Orientaciones Generales
B7: Antes de iniciar con el diligenciamiento de la información en la matriz, se requiere haber avanzado en el análisis del proceso, su objetivo, alcance, actividades clave, considere los lineamientos establecidos en el Paso 2: identificación del riesgo, donde se explica ampliamente las bases para adelanter este análisis. Así mismo, considere en el Paso 3: valoración del riesgo los lineamientos para definir el No. de veces que se hace la actividad con la cual se relaciona el riesgo y su impacto en términos económicos o reputacionales. En este mismo paso se analizan los controles que deben responder a los atributos de eficiencia e informativos. NOTA: Si lo considera pertinente, es posible agregar hojas de trabajo adicionales al presente formato que permitan incluir la traza de estos análisis.
B9: El archivo contiene las siguientes hojas: - Hoja 1 Instructivo - Hoja 2 Mapa Final: Encontrará la totalidad de la estructura para la identificación y valoración de los riesgos por proceso, programa o proyecto, acorde con el nivel de desagregación que la entidad considere necesaria.
C12: Columna | E12: Descripción - Lineamientos para el diligenciamiento
C13: Proceso | E13: Diligencie el nombre del proceso al cual se le identificarán y valorarán los riesgos.
C14: Objetivo | E14: Diligencie el objetivo del proceso.
C15: Alcance | E15: Diligencie el alcance del proceso.
C16: Referencia | E16: Permite definir unl consecutivo de riesgos. Una entidad puede ir en el riesgo 150, pero tener 70 riesgos, lo que permite llevar una traza de los riesgos. Esta información la debe administrar la oficina asesora de planeación o gerencia de riesgos. Cuando un el riesgo salga del mapa no existirá otro riesgo con el mismo número.
C17: Impacto | E17: Analice las consecuencias que puede ocasionar a la organización la materialización del riesgo, redacte de la forma más concreta posible.
C18: Causa Inmediata | E18: Circunstancias bajo las cuales se presenta el riesgo, es la situación más evidente frente al riesgo, redacte de la forma más concreta posible.
C19: Causa Raíz | E19: Causa principal o básica, corresponde a las razones por la cuales se puede presentar el riesgo, redacte de la forma más concreta posible.
C20: Descripción del Riesgo | E20: Consolida o resume los análisis sobre impacto + causa inmediata + causa raíz, permitiendo contar con una redacción clara y concreta del riesgo indentificado. Tenga en cuenta la estructura de alto nivel establecida en al guía, inicia con POSIBILIDAD DE + Impacto para la entidad (Qué) + Causa Inmediata (Cómo) + Causa Raíz (Por qué)
C21: Clasificación del Riesgo | E21: Utilice la lista de despligue que se encuentra parametrizada, le aparecerán las opciones: i)Daños Activos Fisicos, ii)Ejecucion y Administracion de procesos, iii)Fallas Tecnologicas, iv)Fraude Externo, v)Fraude Interno, vi)Relaciones Laborales, vii)Usuarios, productos y practicas organizacionales.
C22: Frecuencia con la cual se lleva a cabo la actividad | E22: Defina el # de veces que se ejecuta la actividad durante el año, (Recuerde la probabilidad e ocurrencia del riesgo se defien como el No. de veces que se pasa por el punto de riesgo en el periodo de 1 año). La matriz automáticamente hará el cálculo para el nivel de probabilidad inherente (Columnas H-I)
C23: Criterios de Impacto | E23: Utilice la lista de despligue que se encuentra parametrizada, le aparecerán las opciones de la tabla de Impacto en la Hoja 6 del presente documento. La matriz automáticamente hará el cálculo para el nivel de impacto inherente (Columnas L-M)
... C37: Estado | E37: Utilice la lista de despligue que se encuentra parametrizada, le aparecerán las opciones: i)Finalizado, ii)En curso, la selección en este caso dependerá de las acciones del plan que se hayan establecido en cada caso.
B40: - Hoja 3 Matriz de Calor Inherente: En esta hoja, en la medida en que ese diligencia el Mapa Final, se verán reflejados los riesgos en su zona correspondiente. Esta hoja no se diligencia se genera de manera automática.
B41: - Hoja 4 Matriz de Calor Residual: En esta hoja, en la medida en que ese diligencia el Mapa Final, se verán reflejados los riesgos en su zona correspondiente. Esta hoja no se diligencia se genera de manera automática.
B42: - Hoja 5 Tabla de probabilidad: Tabla referente para todos los cálculos (no se diligencia)
B43: - Hoja 6 Tabla de Impacto: Tabla referente para todos los cálculos (no se diligencia)
B44: - Hoja 7 Tabla de Valoración de Controles: Tabla referente para todos los cálculos (no se diligencia)

Sheet Tabla probabilidad
B1: Tabla Criterios para definir el nivel de probabilidad
C3: Frecuencia de la Actividad | D3: Probabilidad
B4: Muy Baja | C4: La actividad que conlleva el riesgo se ejecuta como máximos 2 veces por año | D4: 0.2
B5: Baja | C5: La actividad que conlleva el riesgo se ejecuta de 3 a 24 veces por año | D5: 0.4
B6: Media | C6: La actividad que conlleva el riesgo se ejecuta de 24 a 500 veces por año | D6: 0.6
B7: Alta | C7: La actividad que conlleva el riesgo se ejecuta mínimo 500 veces al año y máximo 5000 veces por año | D7: 0.8
B8: Muy Alta | C8: La actividad que conlleva el riesgo se ejecuta más de 5000 veces por año | D8: 1

Sheet Tabla Impacto
B1: Tabla Criterios para definir el nivel de impacto
B2: 1 | C2: 3 | D2: 2 | E2: 1-2 | F2: 1-3-2
C3: Afectación Económica (o presupuestal) | D3: Pérdida Reputacional | E3: Redacción reputacional | F3: Redacción reputacional y económica | G3: %
B4: Leve | C4: afectación menor a 10 SMLMV | D4: El riesgo afecta la imagen de alguna área de la organización | E4: =CONCATENATE("El Impacto se evalúo como"," ",B4,". ",D4,".") -> El Impacto se evalúo como Leve. El riesgo afecta la imagen de alguna área de la organización. | F4: =CONCATENATE("El Impacto se evalúo como"," ",B4,". ",D4," con una posible"," ",C4,".") -> El Impacto se evalúo como Leve. El riesgo afecta la imagen de alguna área de la organización con una posible afectación menor a 10 SMLMV. | G4: 0.2 | I4: Reputacional
B5: Menor | C5: afectación entre 10 y 50 SMLMV | D5: El riesgo afecta la imagen de la entidad internamente, de conocimiento general, nivel interno, de junta dircetiva y accionistas y/o de provedores | E5: =CONCATENATE("El Impacto se evalúo como"," ",B5,". ",D5,".") -> El Impacto se evalúo como Menor. El riesgo afecta la imagen de la entidad internamente, de conocimiento general, nivel interno, de junta dircetiva y accionistas y/o de provedores. | F5: =CONCATENATE("El Impacto se evalúo como"," ",B5,". ",D5," con una posible"," ",C5,".") -> El Impacto se evalúo como Menor. El riesgo afecta la imagen de la entidad internamente, de conocimiento general, nivel interno, de junta dircetiva y accionistas y/o de provedores con una posible afectación entre 10 y 50 SMLMV. | G5: 0.4 | I5: Económico
B6: Moderado | C6: afectación entre 50 y 100 SMLMV | D6: El riesgo afecta la imagen de la entidad con algunos usuarios de relevancia frente al logro de los objetivos | E6: =CONCATENATE("El Impacto se evalúo como"," ",B6,". ",D6,".") -> El Impacto se evalúo como Moderado. El riesgo afecta la imagen de la entidad con algunos usuarios de relevancia frente al logro de los objetivos. | F6: =CONCATENATE("El Impacto se evalúo como"," ",B6,". ",D6," con una posible"," ",C6,".") -> El Impacto se evalúo como Moderado. El riesgo afecta la imagen de la entidad con algunos usuarios de relevancia frente al logro de los objetivos con una posible afectación entre 50 y 100 SMLMV. | G6: 0.6 | I6: Reputacional y Económica
B7: Mayor | C7: afectación entre 100 y 500 SMLMV | D7: El riesgo afecta la imagen de de la entidad con efecto publicitario sostenido a nivel de sector administrativo, nivel departamental o municipal | E7: =CONCATENATE("El Impacto se evalúo como"," ",B7,". ",D7,".") -> El Impacto se evalúo como Mayor. El riesgo afecta la imagen de de la entidad con efecto publicitario sostenido a nivel de sector administrativo, nivel departamental o municipal. | F7: =CONCATENATE("El Impacto se evalúo como"," ",B7,". ",D7," con una posible"," ",C7,".") -> El Impacto se evalúo como Mayor. El riesgo afecta la imagen de de la entidad con efecto publicitario sostenido a nivel de sector administrativo, nivel departamental o municipal con una posible afectación entre 100 y 500 SMLMV. | G7: 0.8
B8: Catastrófico | C8: afectación mayor a 500 SMLMV | D8: El riesgo afecta la imagen de la entidad a nivel nacional, con efecto publicitarios sostenible a nivel país | E8: =CONCATENATE("El Impacto se evalúo como"," ",B8,". ",D8,".") -> El Impacto se evalúo como Catastrófico. El riesgo afecta la imagen de la entidad a nivel nacional, con efecto publicitarios sostenible a nivel país. | F8: =CONCATENATE("El Impacto se evalúo como"," ",B8,". ",D8," con una posible"," ",C8,".") -> El Impacto se evalúo como Catastrófico. El riesgo afecta la imagen de la entidad a nivel nacional, con efecto publicitarios sostenible a nivel país con una posible afectación mayor a 500 SMLMV. | G8: 1
B11: Afectación_Económica_o_presupuestal | C11: Afectación menor a 10 SMLMV. | D11: El riesgo afecta la imagen de alguna área de la organización
B12: Pérdida_Reputacional | C12: Entre 10 y 50 SMLMV | D12: El riesgo afecta la imagen de la entidad internamente, de conocimiento general, nivel interno, de junta dircetiva y accionistas y/o de provedores
C13: Entre 50 y 100 SMLMV | D13: El riesgo afecta la imagen de la entidad con algunos usuarios de relevancia frente al logro de los objetivos
C14: Entre 100 y 500 SMLMV | D14: El riesgo afecta la imagen de de la entidad con efecto publicitario sostenido a nivel de sector administrativo, nivel departamental o municipal
C15: Mayor a 500 SMLMV | D15: El riesgo afecta la imagen de la entidad a nivel nacional, con efecto publicitarios sostenible a nivel país
B209: Criterios | C209: Subcriterios | D209: Criterios | E209: Subcriterios
B210: Afectación Económica o presupuestal | C210: Afectación menor a 10 SMLMV . | D210: Afectación Económica o presupuestal | F210: =IF(NOT(ISBLANK(D210)),D210,IF(NOT(ISBLANK(E210))," "&E210,FALSE)) -> Afectación Económica o presupuestal | G210: Afectación Económica o presupuestal | H210: =IF(NOT(ISERROR(MATCH(G210,_xlfn.ANCHORARRAY(B221),0))),F223&"Por favor no seleccionar los criterios de impacto",G210) -> Afectación Económica o presupuestal
B211: Afectación Económica o presupuestal | C211: Entre 10 y 50 SMLMV | E211: Afectación menor a 10 SMLMV . | F211: =IF(NOT(ISBLANK(D211)),D211,IF(NOT(ISBLANK(E211))," "&E211,FALSE)) -> Afectación menor a 10 SMLMV .
B212: Afectación Económica o presupuestal | C212: Entre 50 y 100 SMLMV | E212: Entre 10 y 50 SMLMV | F212: =IF(NOT(ISBLANK(D212)),D212,IF(NOT(ISBLANK(E212))," "&E212,FALSE)) -> Entre 10 y 50 SMLMV
B213: Afectación Económica o presupuestal | C213: Entre 100 y 500 SMLMV | E213: Entre 50 y 100 SMLMV | F213: =IF(NOT(ISBLANK(D213)),D213,IF(NOT(ISBLANK(E213))," "&E213,FALSE)) -> Entre 50 y 100 SMLMV
B214: Afectación Económica o presupuestal | C214: Mayor a 500 SMLMV | E214: Entre 100 y 500 SMLMV | F214: =IF(NOT(ISBLANK(D214)),D214,IF(NOT(ISBLANK(E214))," "&E214,FALSE)) -> Entre 100 y 500 SMLMV
B215: Pérdida Reputacional | C215: El riesgo afecta la imagen de alguna área de la organización | E215: Mayor a 500 SMLMV | F215: =IF(NOT(ISBLANK(D215)),D215,IF(NOT(ISBLANK(E215))," "&E215,FALSE)) -> Mayor a 500 SMLMV
B216: Pérdida Reputacional | C216: El riesgo afecta la imagen de la entidad internamente, de conocimiento general, nivel interno, de junta dircetiva y accionistas y/o de provedores | D216: Pérdida Reputacional | F216: =IF(NOT(ISBLANK(D216)),D216,IF(NOT(ISBLANK(E216))," "&E216,FALSE)) -> Pérdida Reputacional
B217: Pérdida Reputacional | C217: El riesgo afecta la imagen de la entidad con algunos usuarios de relevancia frente al logro de los objetivos | E217: El riesgo afecta la imagen de alguna área de la organización | F217: =IF(NOT(ISBLANK(D217)),D217,IF(NOT(ISBLANK(E217))," "&E217,FALSE)) -> El riesgo afecta la imagen de alguna área de la organización
B218: Pérdida Reputacional | C218: El riesgo afecta la imagen de de la entidad con efecto publicitario sostenido a nivel de sector administrativo, nivel departamental o municipal | E218: El riesgo afecta la imagen de la entidad internamente, de conocimiento general, nivel interno, de junta dircetiva y accionistas y/o de provedores | F218: =IF(NOT(ISBLANK(D218)),D218,IF(NOT(ISBLANK(E218))," "&E218,FALSE)) -> El riesgo afecta la imagen de la entidad internamente, de conocimiento general, nivel interno, de junta dircetiva y accionistas y/o de provedores
B219: Pérdida Reputacional | C219: El riesgo afecta la imagen de la entidad a nivel nacional, con efecto publicitarios sostenible a nivel país | E219: El riesgo afecta la imagen de la entidad con algunos usuarios de relevancia frente al logro de los objetivos | F219: =IF(NOT(ISBLANK(D219)),D219,IF(NOT(ISBLANK(E219))," "&E219,FALSE)) -> El riesgo afecta la imagen de la entidad con algunos usuarios de relevancia frente al logro de los objetivos
E220: El riesgo afecta la imagen de de la entidad con efecto publicitario sostenido a nivel de sector administrativo, nivel departamental o municipal | F220: =IF(NOT(ISBLANK(D220)),D220,IF(NOT(ISBLANK(E220))," "&E220,FALSE)) -> El riesgo afecta la imagen de de la entidad con efecto publicitario sostenido a nivel de sector administrativo, nivel departamental o municipal
B221: {=_xlfn.UNIQUE(Tabla1[[#All],[Criterios]])} -> #NAME? | E221: El riesgo afecta la imagen de la entidad a nivel nacional, con efecto publicitarios sostenible a nivel país | F221: =IF(NOT(ISBLANK(D221)),D221,IF(NOT(ISBLANK(E221))," "&E221,FALSE)) -> El riesgo afecta la imagen de la entidad a nivel nacional, con efecto publicitarios sostenible a nivel país
B222: #NAME?
B223: #NAME? | F223: ❌
F224: ✔

Sheet Tabla Valoración controles
B1: Tabla Atributos de para el diseño del control
B3: Características | E3: Descripción | F3: Peso
B4: Atributos de Eficiencia | C4: Tipo | D4: Preventivo | E4: Va hacia las causas del riesgo, aseguran el resultado final esperado. | F4: 0.25
D5: Detectivo | E5: Detecta que algo ocurre y devuelve el proceso a los controles preventivos. Se pueden generar reprocesos. | F5: 0.15
D6: Correctivo | E6: Dado que permiten reducir el impacto de la materialización del riesgo, tienen un costo en su implementación. | F6: 0.1
C7: Implementación | D7: Automático | E7: Son actividades de procesamiento o validación de información que se ejecutan por un sistema y/o aplicativo de manera automática sin la intervención de personas para su realización. | F7: 0.25
D8: Manual | E8: Controles que son ejecutados por una persona., tiene implícito el error humano. | F8: 0.15
B9: *Atributos de Formalización | C9: Documentación | D9: Documentado | E9: Controles que están documentados en el proceso, ya sea en manuales, procedimientos, flujogramas o cualquier otro documento propio del proceso. | F9: -
D10: Sin Documentar | E10: Identifica a los controles que pese a que se ejecutan en el proceso no se encuentran documentados en ningún documento propio del proceso | F10: -
C11: Frecuencia | D11: Continua | E11: Este atributo identifica a los controles que se ejecutan siempre que se realiza la actividad originadora del riesgo. | F11: -
D12: Aleatoria | E12: Este atributo identifica a los controles que no siempre se ejecutan cuando se realiza la actividad originadora del riesgo | F12: -
C13: Evidencia | D13: Con Registro | E13: El control deja un registro que permite evidenciar la ejecución del control | F13: -
D14: Sin Registro | E14: El control no deja registro de la ejecución del control | F14: -
B15: *Nota 1: Los atributos de formalización se recogerán de manera informativa, con el fin de conocer el entorno del control y complementar el análisis con elementos cualitativos; éstos no tienen una incidencia directa en su efectividad.

Sheet Direccionamiento Estrategico
A1: Formato Mapa Riesgos
A4: Proceso: | C4: DIRECCIONAMIENTO ESTRATÉGICO
A5: Objetivo: | C5: Asesorar la formulación y el seguimiento de los planes, politicas y proyectos para la inclusión social de la población con discapacidad visual acorde con los lineamientos establecidos.
A6: Alcance: | C6: Inicia con la identificación de necesidades de la población con discapacidad visual, continua con la formulación y diseño de los planes y proyectos institucionales y termina con su evaluación.
A7: Identificación del riesgo | H7: Análisis del riesgo inherente | O7: Evaluación del riesgo - Valoración de los controles | X7: Evaluación del riesgo - Nivel del riesgo residual | AE7: Plan de Acción
A8: Referencia | B8: Impacto | C8: Causa Inmediata | D8: Causa Raíz | E8: Descripción del Riesgo | F8: Clasificación del Riesgo | G8: Frecuencia con la cual se realiza la actividad | H8: Probabilidad Inherente | I8: % | J8: Criterios de impacto | K8: Observación de criterio | L8: Impacto Inherente | M8: % | N8: Zona de Riesgo Inherente | O8: No. Control | P8: Descripción del Control | Q8: Afectación | R8: Atributos | X8: Probabilidad Residual | Y8: Probabilidad Residual Final | Z8: % | AA8: Impacto Residual Final | AB8: % | AC8: Zona de Riesgo Final | AD8: Tratamiento | AE8: Plan de Acción | AF8: Responsable | AG8: Fecha de control | AH8: Fecha de plan de acción | AI8: Entregable de Control | AJ8: Entregable de Plan de acción
R9: Tipo | S9: Implementación | T9: Calificación | U9: Documentación | V9: Frecuencia | W9: Evidencia
B10: Reputacional | C10: Incumplimiento de los planes y proyectos institucionales por parte de los procesos | D10: Inadecuado e inoportuno seguimiento por parte de los líderes de proceso para el cumplimiento de los planes institucionales | E10: Posibilidad de pérdida reputacional por el incumplimiento de los planes institucionales debido al inadecuado e inoportuno seguimiento por parte de los líderes de proceso. | F10: Ejecución y Administracion de procesos | G10: =12*18 -> 216 | H10: =IF(G10<=0,"",IF(G10<=2,"Muy Baja",IF(G10<=24,"Baja",IF(G10<=500,"Media",IF(G10<=5000,"Alta","Muy Alta"))))) -> Media | I10: 0.6 | J10: =IF(OR($B$10="Reputacional",$B$10="Económica"),VLOOKUP($L$10,'Tabla Impacto'!$B$4:$G$8,4,0),IF(AND($B$10="Reputacional y Económica"),VLOOKUP($L$10,'Tabla Impacto'!$B$4:$G$8,5,0),((VLOOKUP($L$10,'Tabla Impacto'!$B$4:$G$8,2,0))))) -> El Impacto se evalúo como Catastrófico. El riesgo afecta la imagen de la entidad a nivel nacional, con efecto publicitarios sostenible a nivel país. | K10: =IF(OR($B$10="Reputacional",$B$10="Económica"),VLOOKUP($L$10,'Tabla Impacto'!$B$4:$G$8,4,0),IF(AND($B$10="Reputacional y Económica"),VLOOKUP($L$10,'Tabla Impacto'!$B$4:$G$8,5,0),((VLOOKUP($L$10,'Tabla Impacto'!$B$4:$G$8,2,0))))) -> El Impacto se evalúo como Catastrófico. El riesgo afecta la imagen de la entidad a nivel nacional, con efecto publicitarios sostenible a nivel país. | L10: Catastrófico | M10: =VLOOKUP(L10,'Tabla Impacto'!$B$4:$G$8,6,0) -> 1 | N10: =IF(OR(AND(H10="Muy Baja",L10="Leve"),AND(H10="Muy Baja",L10="Menor"),AND(H10="Baja",L10="Leve")),"Bajo",IF(OR(AND(H10="Muy baja",L10="Moderado"),AND(H10="Baja",L10="Menor"),AND(H10="Baja",L10="Moderado"),AND(H10="Media",L10="Leve"),AND(H10="Media",L10="Menor"),AND(H10="Media",L10="Moderado"),AND(H10="Alta",L10="Leve"),AND(H10="Alta",L10="Menor")),"Moderado",IF(OR(AND(H10="Muy Baja",L10="Mayor"),AND(H10="Baja",L10="Mayor"),AND(H10="Media",L10="Mayor"),AND(H10="Alta",L10="Moderado"),AND(H10="Alta",L10="Mayor"),AND(H10="Muy Alta",L10="Leve"),AND(H10="Muy Alta",L10="Menor"),AND(H10="Muy Alta",L10="Moderado"),AND(H10="Muy Alta",L10="Mayor")),"Alto",IF(OR(AND(H10="Muy Baja",L10="Catastrófico"),AND(H10="Baja",L10="Catastrófico"),AND(H10="Media",L10="Catastrófico"),AND(H10="Alta",L10="Catastrófico"),AND(H10="Muy Alta",L10="Catastrófico")),"Extremo","")))) -> Extremo | O10: 1 | P10: Oficina Asesora de Planeación realiza el reporte y consolida en el instrumento de seguimiento al Plan de Acción Anual, la información mensual del avance de las actividades y metas del plan de acción, pertinencia, oportunidad y calidad de la evidencias. | Q10: =IF(OR(R10="Preventivo",R10="Detectivo"),"Probabilidad",IF(R10="Correctivo","Impacto","")) -> Probabilidad | R10: Preventivo | S10: Manual | T10: =IF(AND(R10="Preventivo",S10="Automático"),"50%",IF(AND(R10="Preventivo",S10="Manual"),"40%",IF(AND(R10="Detectivo",S10="Automático"),"40%",IF(AND(R10="Detectivo",S10="Manual"),"30%",IF(AND(R10="Correctivo",S10="Automático"),"35%",IF(AND(R10="Correctivo",S10="Manual"),"25%","")))))) -> 40% | U10: Documentado | V10: Continua | W10: Con Registro | X10: =IFERROR(IF(Q10="Probabilidad",(I10-(+I10*T10)),IF(Q10="Impacto",I10,"")),"") -> 0.36 | Y10: =IFERROR(IF(X10="","",IF(X10<=0.2,"Muy Baja",IF(X10<=0.4,"Baja",IF(X10<=0.6,"Media",IF(X10<=0.8,"Alta","Muy Alta"))))),"") -> Baja | Z10: =+X10 -> 0.36 | AA10: =IFERROR(IF(AB10="","",IF(AB10<=0.2,"Leve",IF(AB10<=0.4,"Menor",IF(AB10<=0.6,"Moderado",IF(AB10<=0.8,"Mayor","Catastrófico"))))),"") -> Catastrófico | AB10: =IFERROR(IF(Q10="Impacto",(M10-(+M10*T10)),IF(Q10="Probabilidad",M10,"")),"") -> 1 | AC10: =IFERROR(IF(OR(AND(Y10="Muy Baja",AA10="Leve"),AND(Y10="Muy Baja",AA10="Menor"),AND(Y10="Baja",AA10="Leve")),"Bajo",IF(OR(AND(Y10="Muy baja",AA10="Moderado"),AND(Y10="Baja",AA10="Menor"),AND(Y10="Baja",AA10="Moderado"),AND(Y10="Media",AA10="Leve"),AND(Y10="Media",AA10="Menor"),AND(Y10="Media",AA10="Moderado"),AND(Y10="Alta",AA10="Leve"),AND(Y10="Alta",AA10="Menor")),"Moderado",IF(OR(AND(Y10="Muy Baja",AA10="Mayor"),AND(Y10="Baja",AA10="Mayor"),AND(Y10="Media",AA10="Mayor"),AND(Y10="Alta",AA10="Moderado"),AND(Y10="Alta",AA10="Mayor"),AND(Y10="Muy Alta",AA10="Leve"),AND(Y10="Muy Alta",AA10="Menor"),AND(Y10="Muy Alta",AA10="Moderado"),AND(Y10="Muy Alta",AA10="Mayor")),"Alto",IF(OR(AND(Y10="Muy Baja",AA10="Catastrófico"),AND(Y10="Baja",AA10="Catastrófico"),AND(Y10="Media",AA10="Catastrófico"),AND(Y10="Alta",AA10="Catastrófico"),AND(Y10="Muy Alta",AA10="Catastrófico")),"Extremo","")))),"") -> Extremo | AD10: Reducir (mitigar) | AE10: =MID(P10,41,400) -> reporte y consolida en el instrumento de seguimiento al Plan de Acción Anual, la información mensual del avance de las actividades y metas del plan de acción, pertinencia, oportunidad y calidad de la evidencias. | AF10: Oficina Asesora de Planeación | AG10: Enero -Diciembre de 2026 | AH10: =AG10 -> Enero -Diciembre de 2026 | AI10: Reporte consolidado de los seguimientos. Registros y evidencias | AJ10: Evidencia de seguimiento al Plan .
O11: 2 | P11: La oficina asesora de planeación realiza seguimiento cuatrimestral a las actividades establecidas en el plan de acción anual y reportan las alertas de los resultados en el Comité Institucional de Gestión y Desempeño con el objeto de establecer las acciones de mejora pertinentes | Q11: =IF(OR(R11="Preventivo",R11="Detectivo"),"Probabilidad",IF(R11="Correctivo","Impacto","")) -> Probabilidad | R11: Detectivo | S11: Manual | T11: =IF(AND(R11="Preventivo",S11="Automático"),"50%",IF(AND(R11="Preventivo",S11="Manual"),"40%",IF(AND(R11="Detectivo",S11="Automático"),"40%",IF(AND(R11="Detectivo",S11="Manual"),"30%",IF(AND(R11="Correctivo",S11="Automático"),"35%",IF(AND(R11="Correctivo",S11="Manual"),"25%","")))))) -> 30% | U11: Documentado | V11: Continua | W11: Con Registro | X11: =IFERROR(IF(AND(Q10="Probabilidad",Q11="Probabilidad"),(Z10-(+Z10*T11)),IF(Q11="Probabilidad",(I10-(+I10*T11)),IF(Q11="Impacto",Z10,""))),"") -> 0.252 | Y11: =IFERROR(IF(X11="","",IF(X11<=0.2,"Muy Baja",IF(X11<=0.4,"Baja",IF(X11<=0.6,"Media",IF(X11<=0.8,"Alta","Muy Alta"))))),"") -> Baja | Z11: =+X11 -> 0.252 | AA11: =IFERROR(IF(AB11="","",IF(AB11<=0.2,"Leve",IF(AB11<=0.4,"Menor",IF(AB11<=0.6,"Moderado",IF(AB11<=0.8,"Mayor","Catastrófico"))))),"") -> Catastrófico | AB11: =IFERROR(IF(AND(Q10="Impacto",Q11="Impacto"),(AB10-(+AB10*T11)),IF(Q11="Impacto",($M$10-(+$M$10*T11)),IF(Q11="Probabilidad",AB10,""))),"") -> 1 | AC11: =IFERROR(IF(OR(AND(Y11="Muy Baja",AA11="Leve"),AND(Y11="Muy Baja",AA11="Menor"),AND(Y11="Baja",AA11="Leve")),"Bajo",IF(OR(AND(Y11="Muy baja",AA11="Moderado"),AND(Y11="Baja",AA11="Menor"),AND(Y11="Baja",AA11="Moderado"),AND(Y11="Media",AA11="Leve"),AND(Y11="Media",AA11="Menor"),AND(Y11="Media",AA11="Moderado"),AND(Y11="Alta",AA11="Leve"),AND(Y11="Alta",AA11="Menor")),"Moderado",IF(OR(AND(Y11="Muy Baja",AA11="Mayor"),AND(Y11="Baja",AA11="Mayor"),AND(Y11="Media",AA11="Mayor"),AND(Y11="Alta",AA11="Moderado"),AND(Y11="Alta",AA11="Mayor"),AND(Y11="Muy Alta",AA11="Leve"),AND(Y11="Muy Alta",AA11="Menor"),AND(Y11="Muy Alta",AA11="Moderado"),AND(Y11="Muy Alta",AA11="Mayor")),"Alto",IF(OR(AND(Y11="Muy Baja",AA11="Catastrófico"),AND(Y11="Baja",AA11="Catastrófico"),AND(Y11="Media",AA11="Catastrófico"),AND(Y11="Alta",AA11="Catastrófico"),AND(Y11="Muy Alta",AA11="Catastrófico")),"Extremo","")))),"") -> Extremo | AD11: Reducir (mitigar) | AE11: =MID(P11,41,400) -> seguimiento cuatrimestral a las actividades establecidas en el plan de acción anual y reportan las alertas de los resultados en el Comité Institucional de Gestión y Desempeño con el objeto de establecer las acciones de mejora pertinentes | AF11: Oficina Asesora de Planeación | AG11: Mayo a Diciembre de 2026 | AH11: =AG11 -> Mayo a Diciembre de 2026 | AI11: Acta de reunión con los lideres de proceso | AJ11: No aplica
O12: 3 | P12: La Oficina Asesora de Planeación realiza la validación de los avances de los planes de segundo nivel, derivados del plan de acción institucional que permita conocer el cumplimiento de metas. | Q12: =IF(OR(R12="Preventivo",R12="Detectivo"),"Probabilidad",IF(R12="Correctivo","Impacto","")) -> Impacto | R12: Correctivo | S12: Manual | T12: =IF(AND(R12="Preventivo",S12="Automático"),"50%",IF(AND(R12="Preventivo",S12="Manual"),"40%",IF(AND(R12="Detectivo",S12="Automático"),"40%",IF(AND(R12="Detectivo",S12="Manual"),"30%",IF(AND(R12="Correctivo",S12="Automático"),"35%",IF(AND(R12="Correctivo",S12="Manual"),"25%","")))))) -> 25% | U12: Documentado | V12: Aleatoria | W12: Con Registro | X12: =IFERROR(IF(AND(Q11="Probabilidad",Q12="Probabilidad"),(Z11-(+Z11*T12)),IF(AND(Q11="Impacto",Q12="Probabilidad"),(Z10-(+Z10*T12)),IF(Q12="Impacto",Z11,""))),"") -> 0.252 | Y12: =IFERROR(IF(X12="","",IF(X12<=0.2,"Muy Baja",IF(X12<=0.4,"Baja",IF(X12<=0.6,"Media",IF(X12<=0.8,"Alta","Muy Alta"))))),"") -> Baja | Z12: =+X12 -> 0.252 | AA12: =IFERROR(IF(AB12="","",IF(AB12<=0.2,"Leve",IF(AB12<=0.4,"Menor",IF(AB12<=0.6,"Moderado",IF(AB12<=0.8,"Mayor","Catastrófico"))))),"") -> Mayor | AB12: =IFERROR(IF(AND(Q11="Impacto",Q12="Impacto"),(AB11-(+AB11*T12)),IF(AND(Q11="Probabilidad",Q12="Impacto"),(AB10-(+AB10*T12)),IF(Q12="Probabilidad",AB11,""))),"") -> 0.75 | AC12: =IFERROR(IF(OR(AND(Y12="Muy Baja",AA12="Leve"),AND(Y12="Muy Baja",AA12="Menor"),AND(Y12="Baja",AA12="Leve")),"Bajo",IF(OR(AND(Y12="Muy baja",AA12="Moderado"),AND(Y12="Baja",AA12="Menor"),AND(Y12="Baja",AA12="Moderado"),AND(Y12="Media",AA12="Leve"),AND(Y12="Media",AA12="Menor"),AND(Y12="Media",AA12="Moderado"),AND(Y12="Alta",AA12="Leve"),AND(Y12="Alta",AA12="Menor")),"Moderado",IF(OR(AND(Y12="Muy Baja",AA12="Mayor"),AND(Y12="Baja",AA12="Mayor"),AND(Y12="Media",AA12="Mayor"),AND(Y12="Alta",AA12="Moderado"),AND(Y12="Alta",AA12="Mayor"),AND(Y12="Muy Alta",AA12="Leve"),AND(Y12="Muy Alta",AA12="Menor"),AND(Y12="Muy Alta",AA12="Moderado"),AND(Y12="Muy Alta",AA12="Mayor")),"Alto",IF(OR(AND(Y12="Muy Baja",AA12="Catastrófico"),AND(Y12="Baja",AA12="Catastrófico"),AND(Y12="Media",AA12="Catastrófico"),AND(Y12="Alta",AA12="Catastrófico"),AND(Y12="Muy Alta",AA12="Catastrófico")),"Extremo","")))),"") -> Alto | AD12: Reducir (mitigar) | AE12: =MID(P12,41,400) -> la validación de los avances de los planes de segundo nivel, derivados del plan de acción institucional que permita conocer el cumplimiento de metas. | AF12: Oficina Asesora de Planeación | AG12: Enero -Diciembre de 2026 | AH12: =AG12 -> Enero -Diciembre de 2026 | AJ12: No aplica
B13: *Nota: La columna referencia se sugiere para mantener el consecutivo de riesgos, así el riesgo salga del mapa no existirá otro riesgo con el mismo número. Una entidad puede ir en el riesgo 150 pero tener 70 riesgos, lo que permite llevar una traza de los riesgos. Esta información la debe administrar la Oficina Asesora de Planeación o Gerencia de Riesgos.
B15: Fuente: Adaptado de Curso Riesgo Operativo Universidad del Rosario por Dirección de Gestión y Desempeño Institucional de Función Pública, 2020.

Sheet Evaluación y mejoramiento
A1: Formato Mapa Riesgos
A4: Proceso: | C4: Evaluacion y Mejoramiento
A5: Objetivo: | C5: Evaluar la efectividad del sistema de control interno del INCI mediante el seguimiento y medición de la eficiencia, eficacia y efectividad de la gestión institucional, los procesos, la ejecución de los planes, programas y proyectos, con el fin de generar recomendaciones que orienten y contribuyan al mejoramiento de la entidad, así como a su cumplimiento misional.
A6: Alcance: | C6: Comprende la identificación de prioridades de evaluación de la gestión institucional, la planeación y ejecución de las auditorías, las evaluaciones y seguimientos establecidos en la normatividad vigente y finaliza con el seguimiento a los planes de mejoramiento institucional y por procesos.
A7: Identificación del riesgo | H7: Análisis del riesgo inherente | O7: Evaluación del riesgo - Valoración de los controles | Y7: Evaluación del riesgo - Nivel del riesgo residual | AF7: Plan de Acción
A8: Referencia | B8: Impacto | C8: Causa Inmediata | D8: Causa Raíz | E8: Descripción del Riesgo | F8: Clasificación del Riesgo | G8: Frecuencia con la cual se realiza la actividad | H8: Probabilidad Inherente | I8: % | J8: Criterios de impacto | K8: Observación de criterio | L8: Impacto Inherente | M8: % | N8: Zona de Riesgo Inherente | O8: No. Control | Q8: Descripción del Control | R8: Afectación | S8: Atributos | Y8: Probabilidad Residual | Z8: Probabilidad Residual Final | AA8: % | AB8: Impacto Residual Final | AC8: % | AD8: Zona de Riesgo Final | AE8: Tratamiento | AF8: Plan de Acción | AG8: Responsable | AH8: Fecha de control | AI8: Fecha de plan de acción | AJ8: Entregable de Control | AK8: Entregable de Plan de acción
S9: Tipo | T9: Implementación | U9: Calificación | V9: Documentación | W9: Frecuencia | X9: Evidencia
A10: 1 | B10: Reputacional | C10: Inadecuado e inoportuno seguimiento y medición del sistema de control interno | D10: Insuficiencia de recursos (fisicos, humanos, tecnologicos, económicos) | E10: Posibilidad de afectación reputacional, por incumplimiento de las actividades establecidas en el plan anual de auditoría, debido a deficiencias en el seguimiento y control de la gestión institucional por falta de oportunidad y calidad en la entrega de información. | F10: Ejecucion y Administracion de procesos | G10: 24 | H10: =IF(G10<=0,"",IF(G10<=2,"Muy Baja",IF(G10<=24,"Baja",IF(G10<=500,"Media",IF(G10<=5000,"Alta","Muy Alta"))))) -> Baja | I10: =IF(H10="","",IF(H10="Muy Baja",0.2,IF(H10="Baja",0.4,IF(H10="Media",0.6,IF(H10="Alta",0.8,IF(H10="Muy Alta",1,)))))) -> 0.4 | J10: =IF(OR($B$10="Reputacional",$B$10="Económica"),VLOOKUP($L$10,'Tabla Impacto'!$B$4:$G$8,4,0),IF(AND($B$10="Reputacional y Económica"),VLOOKUP($L$10,'Tabla Impacto'!$B$4:$G$8,5,0),((VLOOKUP($L$10,'Tabla Impacto'!$B$4:$G$8,2,0))))) -> El Impacto se evalúo como Menor. El riesgo afecta la imagen de la entidad internamente, de conocimiento general, nivel interno, de junta dircetiva y accionistas y/o de provedores. | K10: =IF(OR($B$10="Reputacional",$B$10="Económica"),VLOOKUP($L$10,'Tabla Impacto'!$B$4:$G$8,4,0),IF(AND($B$10="Reputacional y Económica"),VLOOKUP($L$10,'Tabla Impacto'!$B$4:$G$8,5,0),((VLOOKUP($L$10,'Tabla Impacto'!$B$4:$G$8,2,0))))) -> El Impacto se evalúo como Menor. El riesgo afecta la imagen de la entidad internamente, de conocimiento general, nivel interno, de junta dircetiva y accionistas y/o de provedores. | L10: Menor | M10: =VLOOKUP(L10,'Tabla Impacto'!$B$4:$G$8,6,0) -> 0.4 | N10: =IF(OR(AND(H10="Muy Baja",L10="Leve"),AND(H10="Muy Baja",L10="Menor"),AND(H10="Baja",L10="Leve")),"Bajo",IF(OR(AND(H10="Muy baja",L10="Moderado"),AND(H10="Baja",L10="Menor"),AND(H10="Baja",L10="Moderado"),AND(H10="Media",L10="Leve"),AND(H10="Media",L10="Menor"),AND(H10="Media",L10="Moderado"),AND(H10="Alta",L10="Leve"),AND(H10="Alta",L10="Menor")),"Moderado",IF(OR(AND(H10="Muy Baja",L10="Mayor"),AND(H10="Baja",L10="Mayor"),AND(H10="Media",L10="Mayor"),AND(H10="Alta",L10="Moderado"),AND(H10="Alta",L10="Mayor"),AND(H10="Muy Alta",L10="Leve"),AND(H10="Muy Alta",L10="Menor"),AND(H10="Muy Alta",L10="Moderado"),AND(H10="Muy Alta",L10="Mayor")),"Alto",IF(OR(AND(H10="Muy Baja",L10="Catastrófico"),AND(H10="Baja",L10="Catastrófico"),AND(H10="Media",L10="Catastrófico"),AND(H10="Alta",L10="Catastrófico"),AND(H10="Muy Alta",L10="Catastrófico")),"Extremo","")))) -> Moderado | O10: 1 | Q10: El profesional especializado de la oficina de control interno solicita y revisa oportunamente la información, documentación y evidencias remitidas por los procesos para la consolidación de los informes y seguimientos establecidos en el plan de auditoría, de acuerdo a la frecuencia definida en el mismo. En caso de fallas parciales en el cumplimiento en las evaluaciones independientes internas, se realizan informes acumulados para el siguiente mes periodo. | R10: =IF(OR(S10="Preventivo",S10="Detectivo"),"Probabilidad",IF(S10="Correctivo","Impacto","")) -> Probabilidad | S10: Detectivo | T10: Manual | U10: =IF(AND(S10="Preventivo",T10="Automático"),"50%",IF(AND(S10="Preventivo",T10="Manual"),"40%",IF(AND(S10="Detectivo",T10="Automático"),"40%",IF(AND(S10="Detectivo",T10="Manual"),"30%",IF(AND(S10="Correctivo",T10="Automático"),"35%",IF(AND(S10="Correctivo",T10="Manual"),"25%","")))))) -> 30% | V10: Documentado | W10: Continua | X10: Con Registro | Y10: =IFERROR(IF(R10="Probabilidad",(I10-(+I10*U10)),IF(R10="Impacto",I10,"")),"") -> 0.28 | Z10: =IFERROR(IF(Y10="","",IF(Y10<=0.2,"Muy Baja",IF(Y10<=0.4,"Baja",IF(Y10<=0.6,"Media",IF(Y10<=0.8,"Alta","Muy Alta"))))),"") -> Baja | AA10: =+Y10 -> 0.28 | AB10: =IFERROR(IF(AC10="","",IF(AC10<=0.2,"Leve",IF(AC10<=0.4,"Menor",IF(AC10<=0.6,"Moderado",IF(AC10<=0.8,"Mayor","Catastrófico"))))),"") -> Menor | AC10: =IFERROR(IF(R10="Impacto",(M10-(+M10*U10)),IF(R10="Probabilidad",M10,"")),"") -> 0.4 | AD10: =IFERROR(IF(OR(AND(Z10="Muy Baja",AB10="Leve"),AND(Z10="Muy Baja",AB10="Menor"),AND(Z10="Baja",AB10="Leve")),"Bajo",IF(OR(AND(Z10="Muy baja",AB10="Moderado"),AND(Z10="Baja",AB10="Menor"),AND(Z10="Baja",AB10="Moderado"),AND(Z10="Media",AB10="Leve"),AND(Z10="Media",AB10="Menor"),AND(Z10="Media",AB10="Moderado"),AND(Z10="Alta",AB10="Leve"),AND(Z10="Alta",AB10="Menor")),"Moderado",IF(OR(AND(Z10="Muy Baja",AB10="Mayor"),AND(Z10="Baja",AB10="Mayor"),AND(Z10="Media",AB10="Mayor"),AND(Z10="Alta",AB10="Moderado"),AND(Z10="Alta",AB10="Mayor"),AND(Z10="Muy Alta",AB10="Leve"),AND(Z10="Muy Alta",AB10="Menor"),AND(Z10="Muy Alta",AB10="Moderado"),AND(Z10="Muy Alta",AB10="Mayor")),"Alto",IF(OR(AND(Z10="Muy Baja",AB10="Catastrófico"),AND(Z10="Baja",AB10="Catastrófico"),AND(Z10="Media",AB10="Catastrófico"),AND(Z10="Alta",AB10="Catastrófico"),AND(Z10="Muy Alta",AB10="Catastrófico")),"Extremo","")))),"") -> Moderado | AE10: Reducir (mitigar) | AF10: Solicitar y revisar oportunamente la información, documentación y evidencias remitidas por los procesos para la consolidación de los informes y seguimientos establecidos en el plan de auditoría, de acuerdo a la frecuencia definida en el mismo. | AG10: Proceso de Evaluación y Mejoramiento | AH10: Enero a diciembre de 2026 | AI10: =AH10 -> Enero a diciembre de 2026 | AJ10: información, documentación y evidencias remitidas | AK10: No aplica
D11: Falta o debilidades en la planificación y control en la elaboración de informes, auditorias y seguimiento | O11: 2 | Q11: El asesor de Dirección General con funciones de Control Interno revisa y aprueba los informes de acuerdo con la periodicidad establecida en el plan de auditoría y tramita la publicación de los mismos en los espacios oficiales destinados para ello. | R11: =IF(OR(S11="Preventivo",S11="Detectivo"),"Probabilidad",IF(S11="Correctivo","Impacto","")) -> Probabilidad | S11: Preventivo | T11: Manual | U11: =IF(AND(S11="Preventivo",T11="Automático"),"50%",IF(AND(S11="Preventivo",T11="Manual"),"40%",IF(AND(S11="Detectivo",T11="Automático"),"40%",IF(AND(S11="Detectivo",T11="Manual"),"30%",IF(AND(S11="Correctivo",T11="Automático"),"35%",IF(AND(S11="Correctivo",T11="Manual"),"25%","")))))) -> 40% | V11: Documentado | W11: Aleatoria | X11: Con Registro | Y11: =IFERROR(IF(AND(R14="Probabilidad",R11="Probabilidad"),(AA14-(+AA14*U11)),IF(R11="Probabilidad",(I14-(+I14*U11)),IF(R11="Impacto",AA14,""))),"") -> 0 | Z11: =IFERROR(IF(Y11="","",IF(Y11<=0.2,"Muy Baja",IF(Y11<=0.4,"Baja",IF(Y11<=0.6,"Media",IF(Y11<=0.8,"Alta","Muy Alta"))))),"") -> Muy Baja | AA11: =+Y11 -> 0 | AB11: =IFERROR(IF(AC11="","",IF(AC11<=0.2,"Leve",IF(AC11<=0.4,"Menor",IF(AC11<=0.6,"Moderado",IF(AC11<=0.8,"Mayor","Catastrófico"))))),"") -> Leve | AC11: =IFERROR(IF(R11="Impacto",(M11-(+M11*U11)),IF(R11="Probabilidad",M11,"")),"") -> 0 | AD11: =IFERROR(IF(OR(AND(Z11="Muy Baja",AB11="Leve"),AND(Z11="Muy Baja",AB11="Menor"),AND(Z11="Baja",AB11="Leve")),"Bajo",IF(OR(AND(Z11="Muy baja",AB11="Moderado"),AND(Z11="Baja",AB11="Menor"),AND(Z11="Baja",AB11="Moderado"),AND(Z11="Media",AB11="Leve"),AND(Z11="Media",AB11="Menor"),AND(Z11="Media",AB11="Moderado"),AND(Z11="Alta",AB11="Leve"),AND(Z11="Alta",AB11="Menor")),"Moderado",IF(OR(AND(Z11="Muy Baja",AB11="Mayor"),AND(Z11="Baja",AB11="Mayor"),AND(Z11="Media",AB11="Mayor"),AND(Z11="Alta",AB11="Moderado"),AND(Z11="Alta",AB11="Mayor"),AND(Z11="Muy Alta",AB11="Leve"),AND(Z11="Muy Alta",AB11="Menor"),AND(Z11="Muy Alta",AB11="Moderado"),AND(Z11="Muy Alta",AB11="Mayor")),"Alto",IF(OR(AND(Z11="Muy Baja",AB11="Catastrófico"),AND(Z11="Baja",AB11="Catastrófico"),AND(Z11="Media",AB11="Catastrófico"),AND(Z11="Alta",AB11="Catastrófico"),AND(Z11="Muy Alta",AB11="Catastrófico")),"Extremo","")))),"") -> Bajo | AE11: Reducir (mitigar) | AF11: Revisar y aprobar los informes de acuerdo con la periodicidad establecida en el plan de auditoría y tramitar la publicación de los mismos en los espacios oficiales destinados para ello. | AG11: Proceso de Evaluación y Mejoramiento | AH11: Enero a diciembre de 2026 | AI11: =AH11 -> Enero a diciembre de 2026 | AJ11: informes de acuerdo con la periodicidad establecida en el plan de auditoría | AK11: No aplica
D12: Falta de apropiación de las responsabilidades de la linea de defensa | O12: 3 | Q12: El asesor de Dirección General con funciones de Control Interno revisa las necesidades de personal junto con la revisión de los perfiles, idoneidad y experiencia del personal a contratar. Asimismo gestiona la formación y capacitación que requiera el grupo de trabajo para el desarrollo de sus funciones. | R12: =IF(OR(S12="Preventivo",S12="Detectivo"),"Probabilidad",IF(S12="Correctivo","Impacto","")) -> Probabilidad | S12: Preventivo | T12: Manual | U12: =IF(AND(S12="Preventivo",T12="Automático"),"50%",IF(AND(S12="Preventivo",T12="Manual"),"40%",IF(AND(S12="Detectivo",T12="Automático"),"40%",IF(AND(S12="Detectivo",T12="Manual"),"30%",IF(AND(S12="Correctivo",T12="Automático"),"35%",IF(AND(S12="Correctivo",T12="Manual"),"25%","")))))) -> 40% | V12: Documentado | W12: Aleatoria | X12: Con Registro | Y12: =IFERROR(IF(AND(R11="Probabilidad",R12="Probabilidad"),(AA11-(+AA11*U12)),IF(R12="Probabilidad",(I11-(+I11*U12)),IF(R12="Impacto",AA11,""))),"") -> 0 | Z12: =IFERROR(IF(Y12="","",IF(Y12<=0.2,"Muy Baja",IF(Y12<=0.4,"Baja",IF(Y12<=0.6,"Media",IF(Y12<=0.8,"Alta","Muy Alta"))))),"") -> Muy Baja | AA12: =+Y12 -> 0 | AB12: =IFERROR(IF(AC12="","",IF(AC12<=0.2,"Leve",IF(AC12<=0.4,"Menor",IF(AC12<=0.6,"Moderado",IF(AC12<=0.8,"Mayor","Catastrófico"))))),"") -> Leve | AC12: =IFERROR(IF(R12="Impacto",(M12-(+M12*U12)),IF(R12="Probabilidad",M12,"")),"") -> 0 | AD12: =IFERROR(IF(OR(AND(Z12="Muy Baja",AB12="Leve"),AND(Z12="Muy Baja",AB12="Menor"),AND(Z12="Baja",AB12="Leve")),"Bajo",IF(OR(AND(Z12="Muy baja",AB12="Moderado"),AND(Z12="Baja",AB12="Menor"),AND(Z12="Baja",AB12="Moderado"),AND(Z12="Media",AB12="Leve"),AND(Z12="Media",AB12="Menor"),AND(Z12="Media",AB12="Moderado"),AND(Z12="Alta",AB12="Leve"),AND(Z12="Alta",AB12="Menor")),"Moderado",IF(OR(AND(Z12="Muy Baja",AB12="Mayor"),AND(Z12="Baja",AB12="Mayor"),AND(Z12="Media",AB12="Mayor"),AND(Z12="Alta",AB12="Moderado"),AND(Z12="Alta",AB12="Mayor"),AND(Z12="Muy Alta",AB12="Leve"),AND(Z12="Muy Alta",AB12="Menor"),AND(Z12="Muy Alta",AB12="Moderado"),AND(Z12="Muy Alta",AB12="Mayor")),"Alto",IF(OR(AND(Z12="Muy Baja",AB12="Catastrófico"),AND(Z12="Baja",AB12="Catastrófico"),AND(Z12="Media",AB12="Catastrófico"),AND(Z12="Alta",AB12="Catastrófico"),AND(Z12="Muy Alta",AB12="Catastrófico")),"Extremo","")))),"") -> Bajo | AE12: Reducir (mitigar) | AF12: Revisar los perfiles, idoneidad y experiencia del personal a contratar y gestiona la formación y capacitación que requiera el grupo de trabajo para el desarrollo de sus funciones. | AG12: Proceso de Evaluación y Mejoramiento | AH12: Enero a diciembre de 2026 | AI12: =AH12 -> Enero a diciembre de 2026 | AJ12: perfiles, idoneidad y experiencia del personal a contratar | AK12: No aplica
D13: Falta de idoneidad y/o competencia del personal de la dependencia (profesionales, auditores, contratistas) | Y13: =IFERROR(IF(AND(R10="Probabilidad",R13="Probabilidad"),(AA10-(+AA10*U13)),IF(R13="Probabilidad",(I10-(+I10*U13)),IF(R13="Impacto",AA10,""))),"") | Z13: =IFERROR(IF(Y13="","",IF(Y13<=0.2,"Muy Baja",IF(Y13<=0.4,"Baja",IF(Y13<=0.6,"Media",IF(Y13<=0.8,"Alta","Muy Alta"))))),"") | AA13: =+Y13 | AB13: =IFERROR(IF(AC13="","",IF(AC13<=0.2,"Leve",IF(AC13<=0.4,"Menor",IF(AC13<=0.6,"Moderado",IF(AC13<=0.8,"Mayor","Catastrófico"))))),"") | AC13: =IFERROR(IF(AND(R10="Impacto",R13="Impacto"),(AC10-(+AC10*U13)),IF(R13="Impacto",($M$10-(+$M$10*U13)),IF(R13="Probabilidad",AC10,""))),"") | AD13: =IFERROR(IF(OR(AND(Z13="Muy Baja",AB13="Leve"),AND(Z13="Muy Baja",AB13="Menor"),AND(Z13="Baja",AB13="Leve")),"Bajo",IF(OR(AND(Z13="Muy baja",AB13="Moderado"),AND(Z13="Baja",AB13="Menor"),AND(Z13="Baja",AB13="Moderado"),AND(Z13="Media",AB13="Leve"),AND(Z13="Media",AB13="Menor"),AND(Z13="Media",AB13="Moderado"),AND(Z13="Alta",AB13="Leve"),AND(Z13="Alta",AB13="Menor")),"Moderado",IF(OR(AND(Z13="Muy Baja",AB13="Mayor"),AND(Z13="Baja",AB13="Mayor"),AND(Z13="Media",AB13="Mayor"),AND(Z13="Alta",AB13="Moderado"),AND(Z13="Alta",AB13="Mayor"),AND(Z13="Muy Alta",AB13="Leve"),AND(Z13="Muy Alta",AB13="Menor"),AND(Z13="Muy Alta",AB13="Moderado"),AND(Z13="Muy Alta",AB13="Mayor")),"Alto",IF(OR(AND(Z13="Muy Baja",AB13="Catastrófico"),AND(Z13="Baja",AB13="Catastrófico"),AND(Z13="Media",AB13="Catastrófico"),AND(Z13="Alta",AB13="Catastrófico"),AND(Z13="Muy Alta",AB13="Catastrófico")),"Extremo","")))),"")
Y14: =IFERROR(IF(AND(R13="Probabilidad",R14="Probabilidad"),(AA13-(+AA13*U14)),IF(R14="Probabilidad",(I13-(+I13*U14)),IF(R14="Impacto",AA13,""))),"") | Z14: =IFERROR(IF(Y14="","",IF(Y14<=0.2,"Muy Baja",IF(Y14<=0.4,"Baja",IF(Y14<=0.6,"Media",IF(Y14<=0.8,"Alta","Muy Alta"))))),"") | AA14: =+Y14 | AB14: =IFERROR(IF(AC14="","",IF(AC14<=0.2,"Leve",IF(AC14<=0.4,"Menor",IF(AC14<=0.6,"Moderado",IF(AC14<=0.8,"Mayor","Catastrófico"))))),"") | AC14: =IFERROR(IF(AND(R13="Impacto",R14="Impacto"),(AC13-(+AC13*U14)),IF(R14="Impacto",($M$10-(+$M$10*U14)),IF(R14="Probabilidad",AC13,""))),"") | AD14: =IFERROR(IF(OR(AND(Z14="Muy Baja",AB14="Leve"),AND(Z14="Muy Baja",AB14="Menor"),AND(Z14="Baja",AB14="Leve")),"Bajo",IF(OR(AND(Z14="Muy baja",AB14="Moderado"),AND(Z14="Baja",AB14="Menor"),AND(Z14="Baja",AB14="Moderado"),AND(Z14="Media",AB14="Leve"),AND(Z14="Media",AB14="Menor"),AND(Z14="Media",AB14="Moderado"),AND(Z14="Alta",AB14="Leve"),AND(Z14="Alta",AB14="Menor")),"Moderado",IF(OR(AND(Z14="Muy Baja",AB14="Mayor"),AND(Z14="Baja",AB14="Mayor"),AND(Z14="Media",AB14="Mayor"),AND(Z14="Alta",AB14="Moderado"),AND(Z14="Alta",AB14="Mayor"),AND(Z14="Muy Alta",AB14="Leve"),AND(Z14="Muy Alta",AB14="Menor"),AND(Z14="Muy Alta",AB14="Moderado"),AND(Z14="Muy Alta",AB14="Mayor")),"Alto",IF(OR(AND(Z14="Muy Baja",AB14="Catastrófico"),AND(Z14="Baja",AB14="Catastrófico"),AND(Z14="Media",AB14="Catastrófico"),AND(Z14="Alta",AB14="Catastrófico"),AND(Z14="Muy Alta",AB14="Catastrófico")),"Extremo","")))),"")
B15: *Nota: La columna referencia se sugiere para mantener el consecutivo de riesgos, así el riesgo salga del mapa no existirá otro riesgo con el mismo número. Una entidad puede ir en el riesgo 150 pero tener 70 riesgos, lo que permite llevar una traza de los riesgos. Esta información la debe administrar la Oficina Asesora de Planeación o Gerencia de Riesgos.

Sheet Comunicaciones 
A1: Formato Mapa Riesgos
A4: Proceso: | C4: COMUNICACIONES
A5: Objetivo: | C5: Desarrollar acciones comunicativas que visibilicen los procesos de educación inclusiva, sociocultural de la población con discapacidad visual y demás servicios del INCI además de fortalecer la cultura organizacional y la imagen institucional de la Entidad.
A6: Alcance: | C6: El proceso inicia con la elaboración de la estrategia de comunicaciones y un plan de contenidos y finaliza con la promoción y divulgación del tema de discapacidad visual y el quehacer institucional.
A7: Identificación del riesgo | H7: Análisis del riesgo inherente | O7: Evaluación del riesgo - Valoración de los controles | X7: Evaluación del riesgo - Nivel del riesgo residual | AE7: Plan de Acción
A8: Referencia | B8: Impacto | C8: Causa Inmediata | D8: Causa Raíz | E8: Descripción del Riesgo | F8: Clasificación del Riesgo | G8: Frecuencia con la cual se realiza la actividad | H8: Probabilidad Inherente | I8: % | J8: Criterios de impacto | K8: Observación de criterio | L8: Impacto Inherente | M8: % | N8: Zona de Riesgo Inherente | O8: No. Control | P8: Descripción del Control | Q8: Afectación | R8: Atributos | X8: Probabilidad Residual | Y8: Probabilidad Residual Final | Z8: % | AA8: Impacto Residual Final | AB8: % | AC8: Zona de Riesgo Final | AD8: Tratamiento | AE8: Plan de Acción | AF8: Responsable | AG8: Fecha de control | AH8: Fecha de plan de acción | AI8: Entregable de Control | AJ8: Entregable de Plan de acción
R9: Tipo | S9: Implementación | T9: Calificación | U9: Documentación | V9: Frecuencia | W9: Evidencia
A10: 1 | B10: Reputacional y Económica | C10: Falta de divulgación de las acciones desarrolladas para la inclusión de las personas con discapacidad visual | D10: Debilidades en la planeación de los temas y las campañas de comunicación | E10: Posibilidad de pérdida reputacional y financiera por la falta de divulgación de las acciones desarrolladas para la inclusión de las personas con discapacidad visual, debido al uso inadecuado de los contenidos de comunicación. | F10: Ejecución y Administración de procesos | G10: 25 | H10: =IF(G10<=0,"",IF(G10<=2,"Muy Baja",IF(G10<=24,"Baja",IF(G10<=500,"Media",IF(G10<=5000,"Alta","Muy Alta"))))) -> Media | I10: =IF(H10="","",IF(H10="Muy Baja",0.2,IF(H10="Baja",0.4,IF(H10="Media",0.6,IF(H10="Alta",0.8,IF(H10="Muy Alta",1,)))))) -> 0.6 | J10: =IF(OR($B$10="Reputacional",$B$10="Económica"),VLOOKUP($L$10,'Tabla Impacto'!$B$4:$G$8,4,0),IF(AND($B$10="Reputacional y Económica"),VLOOKUP($L$10,'Tabla Impacto'!$B$4:$G$8,5,0),((VLOOKUP($L$10,'Tabla Impacto'!$B$4:$G$8,2,0))))) -> El Impacto se evalúo como Moderado. El riesgo afecta la imagen de la entidad con algunos usuarios de relevancia frente al logro de los objetivos con una posible afectación entre 50 y 100 SMLMV. | K10: =IF(OR($B$10="Reputacional",$B$10="Económica"),VLOOKUP($L$10,'Tabla Impacto'!$B$4:$G$8,4,0),IF(AND($B$10="Reputacional y Económica"),VLOOKUP($L$10,'Tabla Impacto'!$B$4:$G$8,5,0),((VLOOKUP($L$10,'Tabla Impacto'!$B$4:$G$8,2,0))))) -> El Impacto se evalúo como Moderado. El riesgo afecta la imagen de la entidad con algunos usuarios de relevancia frente al logro de los objetivos con una posible afectación entre 50 y 100 SMLMV. | L10: Moderado | M10: =VLOOKUP(L10,'Tabla Impacto'!$B$4:$G$8,6,0) -> 0.6 | N10: =IF(OR(AND(H10="Muy Baja",L10="Leve"),AND(H10="Muy Baja",L10="Menor"),AND(H10="Baja",L10="Leve")),"Bajo",IF(OR(AND(H10="Muy baja",L10="Moderado"),AND(H10="Baja",L10="Menor"),AND(H10="Baja",L10="Moderado"),AND(H10="Media",L10="Leve"),AND(H10="Media",L10="Menor"),AND(H10="Media",L10="Moderado"),AND(H10="Alta",L10="Leve"),AND(H10="Alta",L10="Menor")),"Moderado",IF(OR(AND(H10="Muy Baja",L10="Mayor"),AND(H10="Baja",L10="Mayor"),AND(H10="Media",L10="Mayor"),AND(H10="Alta",L10="Moderado"),AND(H10="Alta",L10="Mayor"),AND(H10="Muy Alta",L10="Leve"),AND(H10="Muy Alta",L10="Menor"),AND(H10="Muy Alta",L10="Moderado"),AND(H10="Muy Alta",L10="Mayor")),"Alto",IF(OR(AND(H10="Muy Baja",L10="Catastrófico"),AND(H10="Baja",L10="Catastrófico"),AND(H10="Media",L10="Catastrófico"),AND(H10="Alta",L10="Catastrófico"),AND(H10="Muy Alta",L10="Catastrófico")),"Extremo","")))) -> Moderado | O10: 1 | P10: El profesional de la Oficina Asesora de Comunicaciones revisa y aprueba las necesidades de segmentación de públicos, lineamientos editoriales, validación de alcance o mecanismos de planificación comunicacional de divulgación de información con los procesos de la Entidad, para definición del Plan de Comunicaciones. | Q10: =IF(OR(R10="Preventivo",R10="Detectivo"),"Probabilidad",IF(R10="Correctivo","Impacto","")) -> Probabilidad | R10: Preventivo | S10: Manual | T10: =IF(AND(R10="Preventivo",S10="Automático"),"50%",IF(AND(R10="Preventivo",S10="Manual"),"40%",IF(AND(R10="Detectivo",S10="Automático"),"40%",IF(AND(R10="Detectivo",S10="Manual"),"30%",IF(AND(R10="Correctivo",S10="Automático"),"35%",IF(AND(R10="Correctivo",S10="Manual"),"25%","")))))) -> 40% | U10: Documentado | V10: Continua | W10: Con Registro | X10: =IFERROR(IF(Q10="Probabilidad",(I10-(+I10*T10)),IF(Q10="Impacto",I10,"")),"") -> 0.36 | Y10: =IFERROR(IF(X10="","",IF(X10<=0.2,"Muy Baja",IF(X10<=0.4,"Baja",IF(X10<=0.6,"Media",IF(X10<=0.8,"Alta","Muy Alta"))))),"") -> Baja | Z10: =+X10 -> 0.36 | AA10: =IFERROR(IF(AB10="","",IF(AB10<=0.2,"Leve",IF(AB10<=0.4,"Menor",IF(AB10<=0.6,"Moderado",IF(AB10<=0.8,"Mayor","Catastrófico"))))),"") -> Moderado | AB10: =IFERROR(IF(Q10="Impacto",(M10-(+M10*T10)),IF(Q10="Probabilidad",M10,"")),"") -> 0.6 | AC10: =IFERROR(IF(OR(AND(Y10="Muy Baja",AA10="Leve"),AND(Y10="Muy Baja",AA10="Menor"),AND(Y10="Baja",AA10="Leve")),"Bajo",IF(OR(AND(Y10="Muy baja",AA10="Moderado"),AND(Y10="Baja",AA10="Menor"),AND(Y10="Baja",AA10="Moderado"),AND(Y10="Media",AA10="Leve"),AND(Y10="Media",AA10="Menor"),AND(Y10="Media",AA10="Moderado"),AND(Y10="Alta",AA10="Leve"),AND(Y10="Alta",AA10="Menor")),"Moderado",IF(OR(AND(Y10="Muy Baja",AA10="Mayor"),AND(Y10="Baja",AA10="Mayor"),AND(Y10="Media",AA10="Mayor"),AND(Y10="Alta",AA10="Moderado"),AND(Y10="Alta",AA10="Mayor"),AND(Y10="Muy Alta",AA10="Leve"),AND(Y10="Muy Alta",AA10="Menor"),AND(Y10="Muy Alta",AA10="Moderado"),AND(Y10="Muy Alta",AA10="Mayor")),"Alto",IF(OR(AND(Y10="Muy Baja",AA10="Catastrófico"),AND(Y10="Baja",AA10="Catastrófico"),AND(Y10="Media",AA10="Catastrófico"),AND(Y10="Alta",AA10="Catastrófico"),AND(Y10="Muy Alta",AA10="Catastrófico")),"Extremo","")))),"") -> Moderado | AD10: Reducir (mitigar) | AE10: =MID(P10,55,400) -> revisa y aprueba las necesidades de segmentación de públicos, lineamientos editoriales, validación de alcance o mecanismos de planificación comunicacional de divulgación de información con los procesos de la Entidad, para definición del Plan de Comunicaciones. | AF10: El profesional de la Oficina Asesora de Comunicaciones | AG10: Enero a Febrero de 2026 | AH10: =AG10 -> Enero a Febrero de 2026 | AI10: Plan de comunicaciones con las necesidades de divulgación de información de los procesos de la Entidad. | AJ10: Reportes.
O11: 2 | P11: El profesional de la Oficina Asesora de Comunicaciones verifica que se cumpla el cronograma establecido y que cada publicación cumpla con los lineamientos del manual de identidad visual con el propósito de divulgar la información de la gestión institucional en forma clara y accesible. | Q11: =IF(OR(R11="Preventivo",R11="Detectivo"),"Probabilidad",IF(R11="Correctivo","Impacto","")) -> Probabilidad | R11: Preventivo | S11: Manual | T11: =IF(AND(R11="Preventivo",S11="Automático"),"50%",IF(AND(R11="Preventivo",S11="Manual"),"40%",IF(AND(R11="Detectivo",S11="Automático"),"40%",IF(AND(R11="Detectivo",S11="Manual"),"30%",IF(AND(R11="Correctivo",S11="Automático"),"35%",IF(AND(R11="Correctivo",S11="Manual"),"25%","")))))) -> 40% | U11: Documentado | V11: Continua | W11: Con Registro | X11: =IFERROR(IF(AND(Q10="Probabilidad",Q11="Probabilidad"),(Z10-(+Z10*T11)),IF(Q11="Probabilidad",(I10-(+I10*T11)),IF(Q11="Impacto",Z10,""))),"") -> 0.216 | Y11: =IFERROR(IF(X11="","",IF(X11<=0.2,"Muy Baja",IF(X11<=0.4,"Baja",IF(X11<=0.6,"Media",IF(X11<=0.8,"Alta","Muy Alta"))))),"") -> Baja | Z11: =+X11 -> 0.216 | AA11: =IFERROR(IF(AB11="","",IF(AB11<=0.2,"Leve",IF(AB11<=0.4,"Menor",IF(AB11<=0.6,"Moderado",IF(AB11<=0.8,"Mayor","Catastrófico"))))),"") -> Moderado | AB11: =IFERROR(IF(AND(Q10="Impacto",Q11="Impacto"),(AB10-(+AB10*T11)),IF(Q11="Impacto",($M$10-(+$M$10*T11)),IF(Q11="Probabilidad",AB10,""))),"") -> 0.6 | AC11: =IFERROR(IF(OR(AND(Y11="Muy Baja",AA11="Leve"),AND(Y11="Muy Baja",AA11="Menor"),AND(Y11="Baja",AA11="Leve")),"Bajo",IF(OR(AND(Y11="Muy baja",AA11="Moderado"),AND(Y11="Baja",AA11="Menor"),AND(Y11="Baja",AA11="Moderado"),AND(Y11="Media",AA11="Leve"),AND(Y11="Media",AA11="Menor"),AND(Y11="Media",AA11="Moderado"),AND(Y11="Alta",AA11="Leve"),AND(Y11="Alta",AA11="Menor")),"Moderado",IF(OR(AND(Y11="Muy Baja",AA11="Mayor"),AND(Y11="Baja",AA11="Mayor"),AND(Y11="Media",AA11="Mayor"),AND(Y11="Alta",AA11="Moderado"),AND(Y11="Alta",AA11="Mayor"),AND(Y11="Muy Alta",AA11="Leve"),AND(Y11="Muy Alta",AA11="Menor"),AND(Y11="Muy Alta",AA11="Moderado"),AND(Y11="Muy Alta",AA11="Mayor")),"Alto",IF(OR(AND(Y11="Muy Baja",AA11="Catastrófico"),AND(Y11="Baja",AA11="Catastrófico"),AND(Y11="Media",AA11="Catastrófico"),AND(Y11="Alta",AA11="Catastrófico"),AND(Y11="Muy Alta",AA11="Catastrófico")),"Extremo","")))),"") -> Moderado | AD11: Reducir (mitigar) | AE11: =MID(P11,55,400) -> verifica que se cumpla el cronograma establecido y que cada publicación cumpla con los lineamientos del manual de identidad visual con el propósito de divulgar la información de la gestión institucional en forma clara y accesible. | AF11: Jefe Oficina Asesora de Comunicaciones | AG11: Marzo a Diciembre 2026 | AH11: =AG11 -> Marzo a Diciembre 2026 | AI11: Cronograma del Plan de Comunicaciones ejecutado y evidencias de reuniones de seguimiento | AJ11: No aplica
O12: 3 | P12: El(la) Jefe de la Oficina Asesora de Comunicaciones verifica los materiales a publicar de acuerdo con la estrategia y objetivos de comunicación. | Q12: =IF(OR(R12="Preventivo",R12="Detectivo"),"Probabilidad",IF(R12="Correctivo","Impacto","")) -> Probabilidad | R12: Detectivo | S12: Manual | T12: =IF(AND(R12="Preventivo",S12="Automático"),"50%",IF(AND(R12="Preventivo",S12="Manual"),"40%",IF(AND(R12="Detectivo",S12="Automático"),"40%",IF(AND(R12="Detectivo",S12="Manual"),"30%",IF(AND(R12="Correctivo",S12="Automático"),"35%",IF(AND(R12="Correctivo",S12="Manual"),"25%","")))))) -> 30% | U12: Sin Documentar | V12: Continua | W12: Sin Registro | X12: =IFERROR(IF(AND(Q11="Probabilidad",Q12="Probabilidad"),(Z11-(+Z11*T12)),IF(Q12="Probabilidad",(I11-(+I11*T12)),IF(Q12="Impacto",Z11,""))),"") -> 0.1512 | Y12: =IFERROR(IF(X12="","",IF(X12<=0.2,"Muy Baja",IF(X12<=0.4,"Baja",IF(X12<=0.6,"Media",IF(X12<=0.8,"Alta","Muy Alta"))))),"") -> Muy Baja | Z12: =+X12 -> 0.1512 | AA12: =IFERROR(IF(AB12="","",IF(AB12<=0.2,"Leve",IF(AB12<=0.4,"Menor",IF(AB12<=0.6,"Moderado",IF(AB12<=0.8,"Mayor","Catastrófico"))))),"") -> Moderado | AB12: =IFERROR(IF(AND(Q11="Impacto",Q12="Impacto"),(AB11-(+AB11*T12)),IF(Q12="Impacto",($M$10-(+$M$10*T12)),IF(Q12="Probabilidad",AB11,""))),"") -> 0.6 | AC12: =IFERROR(IF(OR(AND(Y12="Muy Baja",AA12="Leve"),AND(Y12="Muy Baja",AA12="Menor"),AND(Y12="Baja",AA12="Leve")),"Bajo",IF(OR(AND(Y12="Muy baja",AA12="Moderado"),AND(Y12="Baja",AA12="Menor"),AND(Y12="Baja",AA12="Moderado"),AND(Y12="Media",AA12="Leve"),AND(Y12="Media",AA12="Menor"),AND(Y12="Media",AA12="Moderado"),AND(Y12="Alta",AA12="Leve"),AND(Y12="Alta",AA12="Menor")),"Moderado",IF(OR(AND(Y12="Muy Baja",AA12="Mayor"),AND(Y12="Baja",AA12="Mayor"),AND(Y12="Media",AA12="Mayor"),AND(Y12="Alta",AA12="Moderado"),AND(Y12="Alta",AA12="Mayor"),AND(Y12="Muy Alta",AA12="Leve"),AND(Y12="Muy Alta",AA12="Menor"),AND(Y12="Muy Alta",AA12="Moderado"),AND(Y12="Muy Alta",AA12="Mayor")),"Alto",IF(OR(AND(Y12="Muy Baja",AA12="Catastrófico"),AND(Y12="Baja",AA12="Catastrófico"),AND(Y12="Media",AA12="Catastrófico"),AND(Y12="Alta",AA12="Catastrófico"),AND(Y12="Muy Alta",AA12="Catastrófico")),"Extremo","")))),"") -> Moderado | AD12: Reducir (mitigar) | AE12: =MID(P12,55,400) -> rifica los materiales a publicar de acuerdo con la estrategia y objetivos de comunicación. | AF12: Jefe Oficina Asesora de Comunicaciones | AG12: Marzo a Diciembre 2026 | AH12: =AG12 -> Marzo a Diciembre 2026 | AI12: Cronograma del Plan de Comunicaciones ejecutado y evidencias de reuniones de seguimiento | AJ12: No aplica
B13: *Nota: La columna referencia se sugiere para mantener el consecutivo de riesgos, así el riesgo salga del mapa no existirá otro riesgo con el mismo número. Una entidad puede ir en el riesgo 150 pero tener 70 riesgos, lo que permite llevar una traza de los riesgos. Esta información la debe administrar la Oficina Asesora de Planeación o Gerencia de Riesgos.
B14: Fuente: Adaptado de Curso Riesgo Operativo Universidad del Rosario por Dirección de Gestión y Desempeño Institucional de Función Pública, 2020.

Sheet Asistencia tecnica
A1: Formato Mapa Riesgos
A4: Proceso: | C4: ASISTENCIA TÉCNICA
A5: Objetivo: | C5: Desarrollar acciones que favorezcan los procesos de inclusión social de la población con discapacidad visual, mediante la asistencia técnica, el fortalecimiento en espacios de participación, la gestión del conocimiento y la distribución de material en formatos accesibles acorde con lo establecido en el plan de acción anual.
A6: Alcance: | C6: El proceso inicia con el reconocimiento de las condiciones de atención para las personas con discapacidad visual y termina con la evaluación de las acciones desarrolladas
